BEGIN:VCALENDAR
VERSION:2.0
PRODID:-//Buddhist Teaching, Yoga &amp; Meditation Centre, Bunbury - ECPv6.15.17//NONSGML v1.0//EN
CALSCALE:GREGORIAN
METHOD:PUBLISH
X-WR-CALNAME:Buddhist Teaching, Yoga &amp; Meditation Centre, Bunbury
X-ORIGINAL-URL:https://tarameditationcentre.org.au
X-WR-CALDESC:Events for Buddhist Teaching, Yoga &amp; Meditation Centre, Bunbury
REFRESH-INTERVAL;VALUE=DURATION:PT1H
X-Robots-Tag:noindex
X-PUBLISHED-TTL:PT1H
BEGIN:VTIMEZONE
TZID:Australia/Perth
BEGIN:STANDARD
TZOFFSETFROM:+0800
TZOFFSETTO:+0800
TZNAME:AWST
DTSTART:20250101T000000
END:STANDARD
END:VTIMEZONE
BEGIN:VEVENT
DTSTART;TZID=Australia/Perth:20260820T130000
DTEND;TZID=Australia/Perth:20260820T150000
DTSTAMP:20260420T152951
CREATED:20260306T085125Z
LAST-MODIFIED:20260306T090937Z
UID:10002457-1787230800-1787238000@tarameditationcentre.org.au
SUMMARY:'A Buddhist Approach to Preparing for Death'
DESCRIPTION:We will all die\, yet many of us give it very little thought\, and even fewer make preparations for that eventuality.\nCome along to this series of discussions about various aspects of getting ready for own deaths & those of our loved ones. \nThursdays  1-3 p.m. from April 9th – 30th inclusive\nCost per class  $20/$17 members/ concession
URL:https://tarameditationcentre.org.au/program/a-buddhist-approach-to-preparing-for-death/2026-08-20/
LOCATION:Tara Meditation Centre\, 18 Clifton Street\, Bunbury\, WA\, 6230\, Australia
CATEGORIES:Holy Day
ATTACH;FMTTYPE=image/jpeg:https://tarameditationcentre.org.au/wp-content/uploads/2025/05/Slider-1-meditation.jpg
ORGANIZER;CN="Tara Meditation Centre":MAILTO:welcome@tarameditationcentre.org.au
END:VEVENT
BEGIN:VEVENT
DTSTART;TZID=Australia/Perth:20260823T090000
DTEND;TZID=Australia/Perth:20260823T100000
DTSTAMP:20260420T152951
CREATED:20260112T122805Z
LAST-MODIFIED:20260113T010837Z
UID:10002330-1787475600-1787479200@tarameditationcentre.org.au
SUMMARY:Sunday Guided Meditation
DESCRIPTION:These guided meditations introduce ancient and simple techniques to calm the mind and help with stress and emotional difficulties for the purpose of developing increased awareness\, balance\, vitality and meaning in everyday life. \nSunday meditation sessions are available throughout the whole year\, except for the summer school holidays.
URL:https://tarameditationcentre.org.au/program/sunday-guided-meditation-4-2/2026-08-23/
LOCATION:Tara Meditation Centre\, 18 Clifton Street\, Bunbury\, WA\, 6230\, Australia
CATEGORIES:Meditation
ATTACH;FMTTYPE=image/jpeg:https://tarameditationcentre.org.au/wp-content/uploads/2025/02/Events-2-Sun.jpeg
END:VEVENT
BEGIN:VEVENT
DTSTART;TZID=Australia/Perth:20260826T100000
DTEND;TZID=Australia/Perth:20260826T110000
DTSTAMP:20260420T152951
CREATED:20260112T121726Z
LAST-MODIFIED:20260113T011027Z
UID:10001898-1787738400-1787742000@tarameditationcentre.org.au
SUMMARY:Wednesday Morning Guided Meditation
DESCRIPTION:Healthy Body Healthy Mind \n10 am Healthy Body Healthy Mind~ Sessions combine gentle stretching exercises with simple meditation techniques to calm the mind and help with stress…….. \nWednesday meditation sessions are not held during the school holidays.
URL:https://tarameditationcentre.org.au/program/wednesday-morning-guided-meditation-2/2026-08-26/
LOCATION:WA
CATEGORIES:Meditation
ATTACH;FMTTYPE=image/jpeg:https://tarameditationcentre.org.au/wp-content/uploads/2024/01/Slider-images-4.jpg
END:VEVENT
BEGIN:VEVENT
DTSTART;TZID=Australia/Perth:20260826T173000
DTEND;TZID=Australia/Perth:20260826T181500
DTSTAMP:20260420T152951
CREATED:20260112T121835Z
LAST-MODIFIED:20260113T011059Z
UID:10001963-1787765400-1787768100@tarameditationcentre.org.au
SUMMARY:Wednesday Afternoon Guided Meditation
DESCRIPTION:5:30 pm Afternoon Guided Meditation~ Wind down at the end of a busy day.
URL:https://tarameditationcentre.org.au/program/wednesday-afternoon-guided-meditation-4/2026-08-26/
LOCATION:WA
CATEGORIES:Meditation
ATTACH;FMTTYPE=image/png:https://tarameditationcentre.org.au/wp-content/uploads/2023/12/Event-Header.png
END:VEVENT
BEGIN:VEVENT
DTSTART;TZID=Australia/Perth:20260827T100000
DTEND;TZID=Australia/Perth:20260827T113000
DTSTAMP:20260420T152951
CREATED:20260402T071936Z
LAST-MODIFIED:20260402T072447Z
UID:10002663-1787824800-1787830200@tarameditationcentre.org.au
SUMMARY:Yin & Restore Yoga with Gyani
DESCRIPTION:Yin yoga is a gentle practice that is all about slowing down and opening your body through passive stretching. During the longer holds your muscles are allowed to relax deeply\, as you are using props rather than your muscles to support your body. There will also be a focus on the breath and breathing practices to restore and reset and end with a yoga nidra to enable a deep physical\, mental and emotional relaxation. Suitable for all levels. \n  \nPRICING \n\n90 min class per week in 5-week block: $100 / $90 concession\n\nYou will be signed up for the same class each week. If you book into a second class each week\, then you can pay the concession rate for that second class. \n\nCasuals are offered if there is space on first come first serve basis.\n90 min class $22 / $20 concession\n\nIf you have any queries please contact us.
URL:https://tarameditationcentre.org.au/program/yin-restore-yoga-with-gyani-2/2026-08-27/
LOCATION:Tara Meditation Centre\, 18 Clifton Street\, Bunbury\, WA\, 6230\, Australia
CATEGORIES:Yoga Classes
ATTACH;FMTTYPE=image/jpeg:https://tarameditationcentre.org.au/wp-content/uploads/2025/02/Events-11.jpg
END:VEVENT
BEGIN:VEVENT
DTSTART;TZID=Australia/Perth:20260827T130000
DTEND;TZID=Australia/Perth:20260827T150000
DTSTAMP:20260420T152951
CREATED:20260306T085125Z
LAST-MODIFIED:20260306T090937Z
UID:10002458-1787835600-1787842800@tarameditationcentre.org.au
SUMMARY:'A Buddhist Approach to Preparing for Death'
DESCRIPTION:We will all die\, yet many of us give it very little thought\, and even fewer make preparations for that eventuality.\nCome along to this series of discussions about various aspects of getting ready for own deaths & those of our loved ones. \nThursdays  1-3 p.m. from April 9th – 30th inclusive\nCost per class  $20/$17 members/ concession
URL:https://tarameditationcentre.org.au/program/a-buddhist-approach-to-preparing-for-death/2026-08-27/
LOCATION:Tara Meditation Centre\, 18 Clifton Street\, Bunbury\, WA\, 6230\, Australia
CATEGORIES:Holy Day
ATTACH;FMTTYPE=image/jpeg:https://tarameditationcentre.org.au/wp-content/uploads/2025/05/Slider-1-meditation.jpg
ORGANIZER;CN="Tara Meditation Centre":MAILTO:welcome@tarameditationcentre.org.au
END:VEVENT
BEGIN:VEVENT
DTSTART;TZID=Australia/Perth:20260830T090000
DTEND;TZID=Australia/Perth:20260830T100000
DTSTAMP:20260420T152951
CREATED:20260112T122805Z
LAST-MODIFIED:20260113T010837Z
UID:10002331-1788080400-1788084000@tarameditationcentre.org.au
SUMMARY:Sunday Guided Meditation
DESCRIPTION:These guided meditations introduce ancient and simple techniques to calm the mind and help with stress and emotional difficulties for the purpose of developing increased awareness\, balance\, vitality and meaning in everyday life. \nSunday meditation sessions are available throughout the whole year\, except for the summer school holidays.
URL:https://tarameditationcentre.org.au/program/sunday-guided-meditation-4-2/2026-08-30/
LOCATION:Tara Meditation Centre\, 18 Clifton Street\, Bunbury\, WA\, 6230\, Australia
CATEGORIES:Meditation
ATTACH;FMTTYPE=image/jpeg:https://tarameditationcentre.org.au/wp-content/uploads/2025/02/Events-2-Sun.jpeg
END:VEVENT
BEGIN:VEVENT
DTSTART;TZID=Australia/Perth:20260902T100000
DTEND;TZID=Australia/Perth:20260902T110000
DTSTAMP:20260420T152951
CREATED:20260112T121726Z
LAST-MODIFIED:20260113T011027Z
UID:10001899-1788343200-1788346800@tarameditationcentre.org.au
SUMMARY:Wednesday Morning Guided Meditation
DESCRIPTION:Healthy Body Healthy Mind \n10 am Healthy Body Healthy Mind~ Sessions combine gentle stretching exercises with simple meditation techniques to calm the mind and help with stress…….. \nWednesday meditation sessions are not held during the school holidays.
URL:https://tarameditationcentre.org.au/program/wednesday-morning-guided-meditation-2/2026-09-02/
LOCATION:WA
CATEGORIES:Meditation
ATTACH;FMTTYPE=image/jpeg:https://tarameditationcentre.org.au/wp-content/uploads/2024/01/Slider-images-4.jpg
END:VEVENT
BEGIN:VEVENT
DTSTART;TZID=Australia/Perth:20260902T173000
DTEND;TZID=Australia/Perth:20260902T181500
DTSTAMP:20260420T152951
CREATED:20260112T121835Z
LAST-MODIFIED:20260113T011059Z
UID:10001964-1788370200-1788372900@tarameditationcentre.org.au
SUMMARY:Wednesday Afternoon Guided Meditation
DESCRIPTION:5:30 pm Afternoon Guided Meditation~ Wind down at the end of a busy day.
URL:https://tarameditationcentre.org.au/program/wednesday-afternoon-guided-meditation-4/2026-09-02/
LOCATION:WA
CATEGORIES:Meditation
ATTACH;FMTTYPE=image/png:https://tarameditationcentre.org.au/wp-content/uploads/2023/12/Event-Header.png
END:VEVENT
BEGIN:VEVENT
DTSTART;TZID=Australia/Perth:20260903T100000
DTEND;TZID=Australia/Perth:20260903T113000
DTSTAMP:20260420T152951
CREATED:20260402T071936Z
LAST-MODIFIED:20260402T072447Z
UID:10002664-1788429600-1788435000@tarameditationcentre.org.au
SUMMARY:Yin & Restore Yoga with Gyani
DESCRIPTION:Yin yoga is a gentle practice that is all about slowing down and opening your body through passive stretching. During the longer holds your muscles are allowed to relax deeply\, as you are using props rather than your muscles to support your body. There will also be a focus on the breath and breathing practices to restore and reset and end with a yoga nidra to enable a deep physical\, mental and emotional relaxation. Suitable for all levels. \n  \nPRICING \n\n90 min class per week in 5-week block: $100 / $90 concession\n\nYou will be signed up for the same class each week. If you book into a second class each week\, then you can pay the concession rate for that second class. \n\nCasuals are offered if there is space on first come first serve basis.\n90 min class $22 / $20 concession\n\nIf you have any queries please contact us.
URL:https://tarameditationcentre.org.au/program/yin-restore-yoga-with-gyani-2/2026-09-03/
LOCATION:Tara Meditation Centre\, 18 Clifton Street\, Bunbury\, WA\, 6230\, Australia
CATEGORIES:Yoga Classes
ATTACH;FMTTYPE=image/jpeg:https://tarameditationcentre.org.au/wp-content/uploads/2025/02/Events-11.jpg
END:VEVENT
BEGIN:VEVENT
DTSTART;TZID=Australia/Perth:20260903T130000
DTEND;TZID=Australia/Perth:20260903T150000
DTSTAMP:20260420T152951
CREATED:20260306T085125Z
LAST-MODIFIED:20260306T090937Z
UID:10002459-1788440400-1788447600@tarameditationcentre.org.au
SUMMARY:'A Buddhist Approach to Preparing for Death'
DESCRIPTION:We will all die\, yet many of us give it very little thought\, and even fewer make preparations for that eventuality.\nCome along to this series of discussions about various aspects of getting ready for own deaths & those of our loved ones. \nThursdays  1-3 p.m. from April 9th – 30th inclusive\nCost per class  $20/$17 members/ concession
URL:https://tarameditationcentre.org.au/program/a-buddhist-approach-to-preparing-for-death/2026-09-03/
LOCATION:Tara Meditation Centre\, 18 Clifton Street\, Bunbury\, WA\, 6230\, Australia
CATEGORIES:Holy Day
ATTACH;FMTTYPE=image/jpeg:https://tarameditationcentre.org.au/wp-content/uploads/2025/05/Slider-1-meditation.jpg
ORGANIZER;CN="Tara Meditation Centre":MAILTO:welcome@tarameditationcentre.org.au
END:VEVENT
BEGIN:VEVENT
DTSTART;TZID=Australia/Perth:20260906T090000
DTEND;TZID=Australia/Perth:20260906T100000
DTSTAMP:20260420T152951
CREATED:20260112T122805Z
LAST-MODIFIED:20260113T010837Z
UID:10002332-1788685200-1788688800@tarameditationcentre.org.au
SUMMARY:Sunday Guided Meditation
DESCRIPTION:These guided meditations introduce ancient and simple techniques to calm the mind and help with stress and emotional difficulties for the purpose of developing increased awareness\, balance\, vitality and meaning in everyday life. \nSunday meditation sessions are available throughout the whole year\, except for the summer school holidays.
URL:https://tarameditationcentre.org.au/program/sunday-guided-meditation-4-2/2026-09-06/
LOCATION:Tara Meditation Centre\, 18 Clifton Street\, Bunbury\, WA\, 6230\, Australia
CATEGORIES:Meditation
ATTACH;FMTTYPE=image/jpeg:https://tarameditationcentre.org.au/wp-content/uploads/2025/02/Events-2-Sun.jpeg
END:VEVENT
BEGIN:VEVENT
DTSTART;TZID=Australia/Perth:20260909T100000
DTEND;TZID=Australia/Perth:20260909T110000
DTSTAMP:20260420T152951
CREATED:20260112T121726Z
LAST-MODIFIED:20260113T011027Z
UID:10001900-1788948000-1788951600@tarameditationcentre.org.au
SUMMARY:Wednesday Morning Guided Meditation
DESCRIPTION:Healthy Body Healthy Mind \n10 am Healthy Body Healthy Mind~ Sessions combine gentle stretching exercises with simple meditation techniques to calm the mind and help with stress…….. \nWednesday meditation sessions are not held during the school holidays.
URL:https://tarameditationcentre.org.au/program/wednesday-morning-guided-meditation-2/2026-09-09/
LOCATION:WA
CATEGORIES:Meditation
ATTACH;FMTTYPE=image/jpeg:https://tarameditationcentre.org.au/wp-content/uploads/2024/01/Slider-images-4.jpg
END:VEVENT
BEGIN:VEVENT
DTSTART;TZID=Australia/Perth:20260909T173000
DTEND;TZID=Australia/Perth:20260909T181500
DTSTAMP:20260420T152951
CREATED:20260112T121835Z
LAST-MODIFIED:20260113T011059Z
UID:10001965-1788975000-1788977700@tarameditationcentre.org.au
SUMMARY:Wednesday Afternoon Guided Meditation
DESCRIPTION:5:30 pm Afternoon Guided Meditation~ Wind down at the end of a busy day.
URL:https://tarameditationcentre.org.au/program/wednesday-afternoon-guided-meditation-4/2026-09-09/
LOCATION:WA
CATEGORIES:Meditation
ATTACH;FMTTYPE=image/png:https://tarameditationcentre.org.au/wp-content/uploads/2023/12/Event-Header.png
END:VEVENT
BEGIN:VEVENT
DTSTART;TZID=Australia/Perth:20260910T100000
DTEND;TZID=Australia/Perth:20260910T113000
DTSTAMP:20260420T152951
CREATED:20260402T071936Z
LAST-MODIFIED:20260402T072447Z
UID:10002665-1789034400-1789039800@tarameditationcentre.org.au
SUMMARY:Yin & Restore Yoga with Gyani
DESCRIPTION:Yin yoga is a gentle practice that is all about slowing down and opening your body through passive stretching. During the longer holds your muscles are allowed to relax deeply\, as you are using props rather than your muscles to support your body. There will also be a focus on the breath and breathing practices to restore and reset and end with a yoga nidra to enable a deep physical\, mental and emotional relaxation. Suitable for all levels. \n  \nPRICING \n\n90 min class per week in 5-week block: $100 / $90 concession\n\nYou will be signed up for the same class each week. If you book into a second class each week\, then you can pay the concession rate for that second class. \n\nCasuals are offered if there is space on first come first serve basis.\n90 min class $22 / $20 concession\n\nIf you have any queries please contact us.
URL:https://tarameditationcentre.org.au/program/yin-restore-yoga-with-gyani-2/2026-09-10/
LOCATION:Tara Meditation Centre\, 18 Clifton Street\, Bunbury\, WA\, 6230\, Australia
CATEGORIES:Yoga Classes
ATTACH;FMTTYPE=image/jpeg:https://tarameditationcentre.org.au/wp-content/uploads/2025/02/Events-11.jpg
END:VEVENT
BEGIN:VEVENT
DTSTART;TZID=Australia/Perth:20260910T130000
DTEND;TZID=Australia/Perth:20260910T150000
DTSTAMP:20260420T152951
CREATED:20260306T085125Z
LAST-MODIFIED:20260306T090937Z
UID:10002460-1789045200-1789052400@tarameditationcentre.org.au
SUMMARY:'A Buddhist Approach to Preparing for Death'
DESCRIPTION:We will all die\, yet many of us give it very little thought\, and even fewer make preparations for that eventuality.\nCome along to this series of discussions about various aspects of getting ready for own deaths & those of our loved ones. \nThursdays  1-3 p.m. from April 9th – 30th inclusive\nCost per class  $20/$17 members/ concession
URL:https://tarameditationcentre.org.au/program/a-buddhist-approach-to-preparing-for-death/2026-09-10/
LOCATION:Tara Meditation Centre\, 18 Clifton Street\, Bunbury\, WA\, 6230\, Australia
CATEGORIES:Holy Day
ATTACH;FMTTYPE=image/jpeg:https://tarameditationcentre.org.au/wp-content/uploads/2025/05/Slider-1-meditation.jpg
ORGANIZER;CN="Tara Meditation Centre":MAILTO:welcome@tarameditationcentre.org.au
END:VEVENT
BEGIN:VEVENT
DTSTART;TZID=Australia/Perth:20260913T090000
DTEND;TZID=Australia/Perth:20260913T100000
DTSTAMP:20260420T152951
CREATED:20260112T122805Z
LAST-MODIFIED:20260113T010837Z
UID:10002333-1789290000-1789293600@tarameditationcentre.org.au
SUMMARY:Sunday Guided Meditation
DESCRIPTION:These guided meditations introduce ancient and simple techniques to calm the mind and help with stress and emotional difficulties for the purpose of developing increased awareness\, balance\, vitality and meaning in everyday life. \nSunday meditation sessions are available throughout the whole year\, except for the summer school holidays.
URL:https://tarameditationcentre.org.au/program/sunday-guided-meditation-4-2/2026-09-13/
LOCATION:Tara Meditation Centre\, 18 Clifton Street\, Bunbury\, WA\, 6230\, Australia
CATEGORIES:Meditation
ATTACH;FMTTYPE=image/jpeg:https://tarameditationcentre.org.au/wp-content/uploads/2025/02/Events-2-Sun.jpeg
END:VEVENT
BEGIN:VEVENT
DTSTART;TZID=Australia/Perth:20260913T103000
DTEND;TZID=Australia/Perth:20260913T113000
DTSTAMP:20260420T152951
CREATED:20260112T123135Z
LAST-MODIFIED:20260113T004324Z
UID:10002071-1789295400-1789299000@tarameditationcentre.org.au
SUMMARY:Prayers for the Deceased
DESCRIPTION:This event is held on the 2nd Sunday of every month commencing 10.30 a.m. To add someone to the list\, please send their name & date of passing to spc@hmt.org.au
URL:https://tarameditationcentre.org.au/program/prayers-for-the-deceased-2/2026-09-13/
LOCATION:Tara Meditation Centre\, 18 Clifton Street\, Bunbury\, WA\, 6230\, Australia
CATEGORIES:Prayers
ATTACH;FMTTYPE=image/jpeg:https://tarameditationcentre.org.au/wp-content/uploads/2025/02/Events-5.jpg
END:VEVENT
BEGIN:VEVENT
DTSTART;TZID=Australia/Perth:20260916T100000
DTEND;TZID=Australia/Perth:20260916T110000
DTSTAMP:20260420T152951
CREATED:20260112T121726Z
LAST-MODIFIED:20260113T011027Z
UID:10001901-1789552800-1789556400@tarameditationcentre.org.au
SUMMARY:Wednesday Morning Guided Meditation
DESCRIPTION:Healthy Body Healthy Mind \n10 am Healthy Body Healthy Mind~ Sessions combine gentle stretching exercises with simple meditation techniques to calm the mind and help with stress…….. \nWednesday meditation sessions are not held during the school holidays.
URL:https://tarameditationcentre.org.au/program/wednesday-morning-guided-meditation-2/2026-09-16/
LOCATION:WA
CATEGORIES:Meditation
ATTACH;FMTTYPE=image/jpeg:https://tarameditationcentre.org.au/wp-content/uploads/2024/01/Slider-images-4.jpg
END:VEVENT
BEGIN:VEVENT
DTSTART;TZID=Australia/Perth:20260916T173000
DTEND;TZID=Australia/Perth:20260916T181500
DTSTAMP:20260420T152951
CREATED:20260112T121835Z
LAST-MODIFIED:20260113T011059Z
UID:10001966-1789579800-1789582500@tarameditationcentre.org.au
SUMMARY:Wednesday Afternoon Guided Meditation
DESCRIPTION:5:30 pm Afternoon Guided Meditation~ Wind down at the end of a busy day.
URL:https://tarameditationcentre.org.au/program/wednesday-afternoon-guided-meditation-4/2026-09-16/
LOCATION:WA
CATEGORIES:Meditation
ATTACH;FMTTYPE=image/png:https://tarameditationcentre.org.au/wp-content/uploads/2023/12/Event-Header.png
END:VEVENT
BEGIN:VEVENT
DTSTART;TZID=Australia/Perth:20260917T100000
DTEND;TZID=Australia/Perth:20260917T113000
DTSTAMP:20260420T152951
CREATED:20260402T071936Z
LAST-MODIFIED:20260402T072447Z
UID:10002666-1789639200-1789644600@tarameditationcentre.org.au
SUMMARY:Yin & Restore Yoga with Gyani
DESCRIPTION:Yin yoga is a gentle practice that is all about slowing down and opening your body through passive stretching. During the longer holds your muscles are allowed to relax deeply\, as you are using props rather than your muscles to support your body. There will also be a focus on the breath and breathing practices to restore and reset and end with a yoga nidra to enable a deep physical\, mental and emotional relaxation. Suitable for all levels. \n  \nPRICING \n\n90 min class per week in 5-week block: $100 / $90 concession\n\nYou will be signed up for the same class each week. If you book into a second class each week\, then you can pay the concession rate for that second class. \n\nCasuals are offered if there is space on first come first serve basis.\n90 min class $22 / $20 concession\n\nIf you have any queries please contact us.
URL:https://tarameditationcentre.org.au/program/yin-restore-yoga-with-gyani-2/2026-09-17/
LOCATION:Tara Meditation Centre\, 18 Clifton Street\, Bunbury\, WA\, 6230\, Australia
CATEGORIES:Yoga Classes
ATTACH;FMTTYPE=image/jpeg:https://tarameditationcentre.org.au/wp-content/uploads/2025/02/Events-11.jpg
END:VEVENT
BEGIN:VEVENT
DTSTART;TZID=Australia/Perth:20260917T130000
DTEND;TZID=Australia/Perth:20260917T150000
DTSTAMP:20260420T152951
CREATED:20260306T085125Z
LAST-MODIFIED:20260306T090937Z
UID:10002461-1789650000-1789657200@tarameditationcentre.org.au
SUMMARY:'A Buddhist Approach to Preparing for Death'
DESCRIPTION:We will all die\, yet many of us give it very little thought\, and even fewer make preparations for that eventuality.\nCome along to this series of discussions about various aspects of getting ready for own deaths & those of our loved ones. \nThursdays  1-3 p.m. from April 9th – 30th inclusive\nCost per class  $20/$17 members/ concession
URL:https://tarameditationcentre.org.au/program/a-buddhist-approach-to-preparing-for-death/2026-09-17/
LOCATION:Tara Meditation Centre\, 18 Clifton Street\, Bunbury\, WA\, 6230\, Australia
CATEGORIES:Holy Day
ATTACH;FMTTYPE=image/jpeg:https://tarameditationcentre.org.au/wp-content/uploads/2025/05/Slider-1-meditation.jpg
ORGANIZER;CN="Tara Meditation Centre":MAILTO:welcome@tarameditationcentre.org.au
END:VEVENT
BEGIN:VEVENT
DTSTART;TZID=Australia/Perth:20260920T090000
DTEND;TZID=Australia/Perth:20260920T100000
DTSTAMP:20260420T152951
CREATED:20260112T122805Z
LAST-MODIFIED:20260113T010837Z
UID:10002334-1789894800-1789898400@tarameditationcentre.org.au
SUMMARY:Sunday Guided Meditation
DESCRIPTION:These guided meditations introduce ancient and simple techniques to calm the mind and help with stress and emotional difficulties for the purpose of developing increased awareness\, balance\, vitality and meaning in everyday life. \nSunday meditation sessions are available throughout the whole year\, except for the summer school holidays.
URL:https://tarameditationcentre.org.au/program/sunday-guided-meditation-4-2/2026-09-20/
LOCATION:Tara Meditation Centre\, 18 Clifton Street\, Bunbury\, WA\, 6230\, Australia
CATEGORIES:Meditation
ATTACH;FMTTYPE=image/jpeg:https://tarameditationcentre.org.au/wp-content/uploads/2025/02/Events-2-Sun.jpeg
END:VEVENT
BEGIN:VEVENT
DTSTART;TZID=Australia/Perth:20260923T100000
DTEND;TZID=Australia/Perth:20260923T110000
DTSTAMP:20260420T152951
CREATED:20260112T121726Z
LAST-MODIFIED:20260113T011027Z
UID:10001902-1790157600-1790161200@tarameditationcentre.org.au
SUMMARY:Wednesday Morning Guided Meditation
DESCRIPTION:Healthy Body Healthy Mind \n10 am Healthy Body Healthy Mind~ Sessions combine gentle stretching exercises with simple meditation techniques to calm the mind and help with stress…….. \nWednesday meditation sessions are not held during the school holidays.
URL:https://tarameditationcentre.org.au/program/wednesday-morning-guided-meditation-2/2026-09-23/
LOCATION:WA
CATEGORIES:Meditation
ATTACH;FMTTYPE=image/jpeg:https://tarameditationcentre.org.au/wp-content/uploads/2024/01/Slider-images-4.jpg
END:VEVENT
BEGIN:VEVENT
DTSTART;TZID=Australia/Perth:20260923T173000
DTEND;TZID=Australia/Perth:20260923T181500
DTSTAMP:20260420T152951
CREATED:20260112T121835Z
LAST-MODIFIED:20260113T011059Z
UID:10001967-1790184600-1790187300@tarameditationcentre.org.au
SUMMARY:Wednesday Afternoon Guided Meditation
DESCRIPTION:5:30 pm Afternoon Guided Meditation~ Wind down at the end of a busy day.
URL:https://tarameditationcentre.org.au/program/wednesday-afternoon-guided-meditation-4/2026-09-23/
LOCATION:WA
CATEGORIES:Meditation
ATTACH;FMTTYPE=image/png:https://tarameditationcentre.org.au/wp-content/uploads/2023/12/Event-Header.png
END:VEVENT
BEGIN:VEVENT
DTSTART;TZID=Australia/Perth:20260924T100000
DTEND;TZID=Australia/Perth:20260924T113000
DTSTAMP:20260420T152951
CREATED:20260402T071936Z
LAST-MODIFIED:20260402T072447Z
UID:10002667-1790244000-1790249400@tarameditationcentre.org.au
SUMMARY:Yin & Restore Yoga with Gyani
DESCRIPTION:Yin yoga is a gentle practice that is all about slowing down and opening your body through passive stretching. During the longer holds your muscles are allowed to relax deeply\, as you are using props rather than your muscles to support your body. There will also be a focus on the breath and breathing practices to restore and reset and end with a yoga nidra to enable a deep physical\, mental and emotional relaxation. Suitable for all levels. \n  \nPRICING \n\n90 min class per week in 5-week block: $100 / $90 concession\n\nYou will be signed up for the same class each week. If you book into a second class each week\, then you can pay the concession rate for that second class. \n\nCasuals are offered if there is space on first come first serve basis.\n90 min class $22 / $20 concession\n\nIf you have any queries please contact us.
URL:https://tarameditationcentre.org.au/program/yin-restore-yoga-with-gyani-2/2026-09-24/
LOCATION:Tara Meditation Centre\, 18 Clifton Street\, Bunbury\, WA\, 6230\, Australia
CATEGORIES:Yoga Classes
ATTACH;FMTTYPE=image/jpeg:https://tarameditationcentre.org.au/wp-content/uploads/2025/02/Events-11.jpg
END:VEVENT
BEGIN:VEVENT
DTSTART;TZID=Australia/Perth:20260924T130000
DTEND;TZID=Australia/Perth:20260924T150000
DTSTAMP:20260420T152951
CREATED:20260306T085125Z
LAST-MODIFIED:20260306T090937Z
UID:10002462-1790254800-1790262000@tarameditationcentre.org.au
SUMMARY:'A Buddhist Approach to Preparing for Death'
DESCRIPTION:We will all die\, yet many of us give it very little thought\, and even fewer make preparations for that eventuality.\nCome along to this series of discussions about various aspects of getting ready for own deaths & those of our loved ones. \nThursdays  1-3 p.m. from April 9th – 30th inclusive\nCost per class  $20/$17 members/ concession
URL:https://tarameditationcentre.org.au/program/a-buddhist-approach-to-preparing-for-death/2026-09-24/
LOCATION:Tara Meditation Centre\, 18 Clifton Street\, Bunbury\, WA\, 6230\, Australia
CATEGORIES:Holy Day
ATTACH;FMTTYPE=image/jpeg:https://tarameditationcentre.org.au/wp-content/uploads/2025/05/Slider-1-meditation.jpg
ORGANIZER;CN="Tara Meditation Centre":MAILTO:welcome@tarameditationcentre.org.au
END:VEVENT
BEGIN:VEVENT
DTSTART;TZID=Australia/Perth:20260927T090000
DTEND;TZID=Australia/Perth:20260927T100000
DTSTAMP:20260420T152951
CREATED:20260112T122805Z
LAST-MODIFIED:20260113T010837Z
UID:10002335-1790499600-1790503200@tarameditationcentre.org.au
SUMMARY:Sunday Guided Meditation
DESCRIPTION:These guided meditations introduce ancient and simple techniques to calm the mind and help with stress and emotional difficulties for the purpose of developing increased awareness\, balance\, vitality and meaning in everyday life. \nSunday meditation sessions are available throughout the whole year\, except for the summer school holidays.
URL:https://tarameditationcentre.org.au/program/sunday-guided-meditation-4-2/2026-09-27/
LOCATION:Tara Meditation Centre\, 18 Clifton Street\, Bunbury\, WA\, 6230\, Australia
CATEGORIES:Meditation
ATTACH;FMTTYPE=image/jpeg:https://tarameditationcentre.org.au/wp-content/uploads/2025/02/Events-2-Sun.jpeg
END:VEVENT
BEGIN:VEVENT
DTSTART;TZID=Australia/Perth:20260930T100000
DTEND;TZID=Australia/Perth:20260930T110000
DTSTAMP:20260420T152951
CREATED:20260112T121726Z
LAST-MODIFIED:20260113T011027Z
UID:10001903-1790762400-1790766000@tarameditationcentre.org.au
SUMMARY:Wednesday Morning Guided Meditation
DESCRIPTION:Healthy Body Healthy Mind \n10 am Healthy Body Healthy Mind~ Sessions combine gentle stretching exercises with simple meditation techniques to calm the mind and help with stress…….. \nWednesday meditation sessions are not held during the school holidays.
URL:https://tarameditationcentre.org.au/program/wednesday-morning-guided-meditation-2/2026-09-30/
LOCATION:WA
CATEGORIES:Meditation
ATTACH;FMTTYPE=image/jpeg:https://tarameditationcentre.org.au/wp-content/uploads/2024/01/Slider-images-4.jpg
END:VEVENT
BEGIN:VEVENT
DTSTART;TZID=Australia/Perth:20260930T173000
DTEND;TZID=Australia/Perth:20260930T181500
DTSTAMP:20260420T152951
CREATED:20260112T121835Z
LAST-MODIFIED:20260113T011059Z
UID:10001968-1790789400-1790792100@tarameditationcentre.org.au
SUMMARY:Wednesday Afternoon Guided Meditation
DESCRIPTION:5:30 pm Afternoon Guided Meditation~ Wind down at the end of a busy day.
URL:https://tarameditationcentre.org.au/program/wednesday-afternoon-guided-meditation-4/2026-09-30/
LOCATION:WA
CATEGORIES:Meditation
ATTACH;FMTTYPE=image/png:https://tarameditationcentre.org.au/wp-content/uploads/2023/12/Event-Header.png
END:VEVENT
END:VCALENDAR