BEGIN:VCALENDAR
VERSION:2.0
PRODID:-//Buddhist Teaching, Yoga &amp; Meditation Centre, Bunbury - ECPv6.15.17//NONSGML v1.0//EN
CALSCALE:GREGORIAN
METHOD:PUBLISH
X-ORIGINAL-URL:https://tarameditationcentre.org.au
X-WR-CALDESC:Events for Buddhist Teaching, Yoga &amp; Meditation Centre, Bunbury
REFRESH-INTERVAL;VALUE=DURATION:PT1H
X-Robots-Tag:noindex
X-PUBLISHED-TTL:PT1H
BEGIN:VTIMEZONE
TZID:Australia/Perth
BEGIN:STANDARD
TZOFFSETFROM:+0800
TZOFFSETTO:+0800
TZNAME:AWST
DTSTART:20260101T000000
END:STANDARD
END:VTIMEZONE
BEGIN:VEVENT
DTSTART;TZID=Australia/Perth:20270725T090000
DTEND;TZID=Australia/Perth:20270725T100000
DTSTAMP:20260421T103448
CREATED:20260112T122805Z
LAST-MODIFIED:20260113T010837Z
UID:10002378-1816506000-1816509600@tarameditationcentre.org.au
SUMMARY:Sunday Guided Meditation
DESCRIPTION:These guided meditations introduce ancient and simple techniques to calm the mind and help with stress and emotional difficulties for the purpose of developing increased awareness\, balance\, vitality and meaning in everyday life. \nSunday meditation sessions are available throughout the whole year\, except for the summer school holidays.
URL:https://tarameditationcentre.org.au/program/sunday-guided-meditation-4-2/2027-07-25/
LOCATION:Tara Meditation Centre\, 18 Clifton Street\, Bunbury\, WA\, 6230\, Australia
CATEGORIES:Meditation
ATTACH;FMTTYPE=image/jpeg:https://tarameditationcentre.org.au/wp-content/uploads/2025/02/Events-2-Sun.jpeg
END:VEVENT
BEGIN:VEVENT
DTSTART;TZID=Australia/Perth:20270801T090000
DTEND;TZID=Australia/Perth:20270801T100000
DTSTAMP:20260421T103448
CREATED:20260112T122805Z
LAST-MODIFIED:20260113T010837Z
UID:10002379-1817110800-1817114400@tarameditationcentre.org.au
SUMMARY:Sunday Guided Meditation
DESCRIPTION:These guided meditations introduce ancient and simple techniques to calm the mind and help with stress and emotional difficulties for the purpose of developing increased awareness\, balance\, vitality and meaning in everyday life. \nSunday meditation sessions are available throughout the whole year\, except for the summer school holidays.
URL:https://tarameditationcentre.org.au/program/sunday-guided-meditation-4-2/2027-08-01/
LOCATION:Tara Meditation Centre\, 18 Clifton Street\, Bunbury\, WA\, 6230\, Australia
CATEGORIES:Meditation
ATTACH;FMTTYPE=image/jpeg:https://tarameditationcentre.org.au/wp-content/uploads/2025/02/Events-2-Sun.jpeg
END:VEVENT
BEGIN:VEVENT
DTSTART;TZID=Australia/Perth:20270808T090000
DTEND;TZID=Australia/Perth:20270808T100000
DTSTAMP:20260421T103448
CREATED:20260112T122805Z
LAST-MODIFIED:20260113T010837Z
UID:10002380-1817715600-1817719200@tarameditationcentre.org.au
SUMMARY:Sunday Guided Meditation
DESCRIPTION:These guided meditations introduce ancient and simple techniques to calm the mind and help with stress and emotional difficulties for the purpose of developing increased awareness\, balance\, vitality and meaning in everyday life. \nSunday meditation sessions are available throughout the whole year\, except for the summer school holidays.
URL:https://tarameditationcentre.org.au/program/sunday-guided-meditation-4-2/2027-08-08/
LOCATION:Tara Meditation Centre\, 18 Clifton Street\, Bunbury\, WA\, 6230\, Australia
CATEGORIES:Meditation
ATTACH;FMTTYPE=image/jpeg:https://tarameditationcentre.org.au/wp-content/uploads/2025/02/Events-2-Sun.jpeg
END:VEVENT
BEGIN:VEVENT
DTSTART;TZID=Australia/Perth:20270815T090000
DTEND;TZID=Australia/Perth:20270815T100000
DTSTAMP:20260421T103448
CREATED:20260112T122805Z
LAST-MODIFIED:20260113T010837Z
UID:10002381-1818320400-1818324000@tarameditationcentre.org.au
SUMMARY:Sunday Guided Meditation
DESCRIPTION:These guided meditations introduce ancient and simple techniques to calm the mind and help with stress and emotional difficulties for the purpose of developing increased awareness\, balance\, vitality and meaning in everyday life. \nSunday meditation sessions are available throughout the whole year\, except for the summer school holidays.
URL:https://tarameditationcentre.org.au/program/sunday-guided-meditation-4-2/2027-08-15/
LOCATION:Tara Meditation Centre\, 18 Clifton Street\, Bunbury\, WA\, 6230\, Australia
CATEGORIES:Meditation
ATTACH;FMTTYPE=image/jpeg:https://tarameditationcentre.org.au/wp-content/uploads/2025/02/Events-2-Sun.jpeg
END:VEVENT
BEGIN:VEVENT
DTSTART;TZID=Australia/Perth:20270822T090000
DTEND;TZID=Australia/Perth:20270822T100000
DTSTAMP:20260421T103448
CREATED:20260112T122805Z
LAST-MODIFIED:20260113T010837Z
UID:10002382-1818925200-1818928800@tarameditationcentre.org.au
SUMMARY:Sunday Guided Meditation
DESCRIPTION:These guided meditations introduce ancient and simple techniques to calm the mind and help with stress and emotional difficulties for the purpose of developing increased awareness\, balance\, vitality and meaning in everyday life. \nSunday meditation sessions are available throughout the whole year\, except for the summer school holidays.
URL:https://tarameditationcentre.org.au/program/sunday-guided-meditation-4-2/2027-08-22/
LOCATION:Tara Meditation Centre\, 18 Clifton Street\, Bunbury\, WA\, 6230\, Australia
CATEGORIES:Meditation
ATTACH;FMTTYPE=image/jpeg:https://tarameditationcentre.org.au/wp-content/uploads/2025/02/Events-2-Sun.jpeg
END:VEVENT
BEGIN:VEVENT
DTSTART;TZID=Australia/Perth:20270829T090000
DTEND;TZID=Australia/Perth:20270829T100000
DTSTAMP:20260421T103448
CREATED:20260112T122805Z
LAST-MODIFIED:20260113T010837Z
UID:10002383-1819530000-1819533600@tarameditationcentre.org.au
SUMMARY:Sunday Guided Meditation
DESCRIPTION:These guided meditations introduce ancient and simple techniques to calm the mind and help with stress and emotional difficulties for the purpose of developing increased awareness\, balance\, vitality and meaning in everyday life. \nSunday meditation sessions are available throughout the whole year\, except for the summer school holidays.
URL:https://tarameditationcentre.org.au/program/sunday-guided-meditation-4-2/2027-08-29/
LOCATION:Tara Meditation Centre\, 18 Clifton Street\, Bunbury\, WA\, 6230\, Australia
CATEGORIES:Meditation
ATTACH;FMTTYPE=image/jpeg:https://tarameditationcentre.org.au/wp-content/uploads/2025/02/Events-2-Sun.jpeg
END:VEVENT
BEGIN:VEVENT
DTSTART;TZID=Australia/Perth:20270905T090000
DTEND;TZID=Australia/Perth:20270905T100000
DTSTAMP:20260421T103448
CREATED:20260112T122805Z
LAST-MODIFIED:20260113T010837Z
UID:10002384-1820134800-1820138400@tarameditationcentre.org.au
SUMMARY:Sunday Guided Meditation
DESCRIPTION:These guided meditations introduce ancient and simple techniques to calm the mind and help with stress and emotional difficulties for the purpose of developing increased awareness\, balance\, vitality and meaning in everyday life. \nSunday meditation sessions are available throughout the whole year\, except for the summer school holidays.
URL:https://tarameditationcentre.org.au/program/sunday-guided-meditation-4-2/2027-09-05/
LOCATION:Tara Meditation Centre\, 18 Clifton Street\, Bunbury\, WA\, 6230\, Australia
CATEGORIES:Meditation
ATTACH;FMTTYPE=image/jpeg:https://tarameditationcentre.org.au/wp-content/uploads/2025/02/Events-2-Sun.jpeg
END:VEVENT
BEGIN:VEVENT
DTSTART;TZID=Australia/Perth:20270912T090000
DTEND;TZID=Australia/Perth:20270912T100000
DTSTAMP:20260421T103448
CREATED:20260112T122805Z
LAST-MODIFIED:20260113T010837Z
UID:10002385-1820739600-1820743200@tarameditationcentre.org.au
SUMMARY:Sunday Guided Meditation
DESCRIPTION:These guided meditations introduce ancient and simple techniques to calm the mind and help with stress and emotional difficulties for the purpose of developing increased awareness\, balance\, vitality and meaning in everyday life. \nSunday meditation sessions are available throughout the whole year\, except for the summer school holidays.
URL:https://tarameditationcentre.org.au/program/sunday-guided-meditation-4-2/2027-09-12/
LOCATION:Tara Meditation Centre\, 18 Clifton Street\, Bunbury\, WA\, 6230\, Australia
CATEGORIES:Meditation
ATTACH;FMTTYPE=image/jpeg:https://tarameditationcentre.org.au/wp-content/uploads/2025/02/Events-2-Sun.jpeg
END:VEVENT
BEGIN:VEVENT
DTSTART;TZID=Australia/Perth:20270919T090000
DTEND;TZID=Australia/Perth:20270919T100000
DTSTAMP:20260421T103448
CREATED:20260112T122805Z
LAST-MODIFIED:20260113T010837Z
UID:10002386-1821344400-1821348000@tarameditationcentre.org.au
SUMMARY:Sunday Guided Meditation
DESCRIPTION:These guided meditations introduce ancient and simple techniques to calm the mind and help with stress and emotional difficulties for the purpose of developing increased awareness\, balance\, vitality and meaning in everyday life. \nSunday meditation sessions are available throughout the whole year\, except for the summer school holidays.
URL:https://tarameditationcentre.org.au/program/sunday-guided-meditation-4-2/2027-09-19/
LOCATION:Tara Meditation Centre\, 18 Clifton Street\, Bunbury\, WA\, 6230\, Australia
CATEGORIES:Meditation
ATTACH;FMTTYPE=image/jpeg:https://tarameditationcentre.org.au/wp-content/uploads/2025/02/Events-2-Sun.jpeg
END:VEVENT
BEGIN:VEVENT
DTSTART;TZID=Australia/Perth:20270926T090000
DTEND;TZID=Australia/Perth:20270926T100000
DTSTAMP:20260421T103448
CREATED:20260112T122805Z
LAST-MODIFIED:20260113T010837Z
UID:10002387-1821949200-1821952800@tarameditationcentre.org.au
SUMMARY:Sunday Guided Meditation
DESCRIPTION:These guided meditations introduce ancient and simple techniques to calm the mind and help with stress and emotional difficulties for the purpose of developing increased awareness\, balance\, vitality and meaning in everyday life. \nSunday meditation sessions are available throughout the whole year\, except for the summer school holidays.
URL:https://tarameditationcentre.org.au/program/sunday-guided-meditation-4-2/2027-09-26/
LOCATION:Tara Meditation Centre\, 18 Clifton Street\, Bunbury\, WA\, 6230\, Australia
CATEGORIES:Meditation
ATTACH;FMTTYPE=image/jpeg:https://tarameditationcentre.org.au/wp-content/uploads/2025/02/Events-2-Sun.jpeg
END:VEVENT
BEGIN:VEVENT
DTSTART;TZID=Australia/Perth:20271003T090000
DTEND;TZID=Australia/Perth:20271003T100000
DTSTAMP:20260421T103448
CREATED:20260112T122805Z
LAST-MODIFIED:20260113T010837Z
UID:10002388-1822554000-1822557600@tarameditationcentre.org.au
SUMMARY:Sunday Guided Meditation
DESCRIPTION:These guided meditations introduce ancient and simple techniques to calm the mind and help with stress and emotional difficulties for the purpose of developing increased awareness\, balance\, vitality and meaning in everyday life. \nSunday meditation sessions are available throughout the whole year\, except for the summer school holidays.
URL:https://tarameditationcentre.org.au/program/sunday-guided-meditation-4-2/2027-10-03/
LOCATION:Tara Meditation Centre\, 18 Clifton Street\, Bunbury\, WA\, 6230\, Australia
CATEGORIES:Meditation
ATTACH;FMTTYPE=image/jpeg:https://tarameditationcentre.org.au/wp-content/uploads/2025/02/Events-2-Sun.jpeg
END:VEVENT
BEGIN:VEVENT
DTSTART;TZID=Australia/Perth:20271010T090000
DTEND;TZID=Australia/Perth:20271010T100000
DTSTAMP:20260421T103448
CREATED:20260112T122805Z
LAST-MODIFIED:20260113T010837Z
UID:10002389-1823158800-1823162400@tarameditationcentre.org.au
SUMMARY:Sunday Guided Meditation
DESCRIPTION:These guided meditations introduce ancient and simple techniques to calm the mind and help with stress and emotional difficulties for the purpose of developing increased awareness\, balance\, vitality and meaning in everyday life. \nSunday meditation sessions are available throughout the whole year\, except for the summer school holidays.
URL:https://tarameditationcentre.org.au/program/sunday-guided-meditation-4-2/2027-10-10/
LOCATION:Tara Meditation Centre\, 18 Clifton Street\, Bunbury\, WA\, 6230\, Australia
CATEGORIES:Meditation
ATTACH;FMTTYPE=image/jpeg:https://tarameditationcentre.org.au/wp-content/uploads/2025/02/Events-2-Sun.jpeg
END:VEVENT
BEGIN:VEVENT
DTSTART;TZID=Australia/Perth:20271017T090000
DTEND;TZID=Australia/Perth:20271017T100000
DTSTAMP:20260421T103448
CREATED:20260112T122805Z
LAST-MODIFIED:20260113T010837Z
UID:10002390-1823763600-1823767200@tarameditationcentre.org.au
SUMMARY:Sunday Guided Meditation
DESCRIPTION:These guided meditations introduce ancient and simple techniques to calm the mind and help with stress and emotional difficulties for the purpose of developing increased awareness\, balance\, vitality and meaning in everyday life. \nSunday meditation sessions are available throughout the whole year\, except for the summer school holidays.
URL:https://tarameditationcentre.org.au/program/sunday-guided-meditation-4-2/2027-10-17/
LOCATION:Tara Meditation Centre\, 18 Clifton Street\, Bunbury\, WA\, 6230\, Australia
CATEGORIES:Meditation
ATTACH;FMTTYPE=image/jpeg:https://tarameditationcentre.org.au/wp-content/uploads/2025/02/Events-2-Sun.jpeg
END:VEVENT
BEGIN:VEVENT
DTSTART;TZID=Australia/Perth:20271024T090000
DTEND;TZID=Australia/Perth:20271024T100000
DTSTAMP:20260421T103448
CREATED:20260112T122805Z
LAST-MODIFIED:20260113T010837Z
UID:10002391-1824368400-1824372000@tarameditationcentre.org.au
SUMMARY:Sunday Guided Meditation
DESCRIPTION:These guided meditations introduce ancient and simple techniques to calm the mind and help with stress and emotional difficulties for the purpose of developing increased awareness\, balance\, vitality and meaning in everyday life. \nSunday meditation sessions are available throughout the whole year\, except for the summer school holidays.
URL:https://tarameditationcentre.org.au/program/sunday-guided-meditation-4-2/2027-10-24/
LOCATION:Tara Meditation Centre\, 18 Clifton Street\, Bunbury\, WA\, 6230\, Australia
CATEGORIES:Meditation
ATTACH;FMTTYPE=image/jpeg:https://tarameditationcentre.org.au/wp-content/uploads/2025/02/Events-2-Sun.jpeg
END:VEVENT
BEGIN:VEVENT
DTSTART;TZID=Australia/Perth:20271031T090000
DTEND;TZID=Australia/Perth:20271031T100000
DTSTAMP:20260421T103448
CREATED:20260112T122805Z
LAST-MODIFIED:20260113T010837Z
UID:10002392-1824973200-1824976800@tarameditationcentre.org.au
SUMMARY:Sunday Guided Meditation
DESCRIPTION:These guided meditations introduce ancient and simple techniques to calm the mind and help with stress and emotional difficulties for the purpose of developing increased awareness\, balance\, vitality and meaning in everyday life. \nSunday meditation sessions are available throughout the whole year\, except for the summer school holidays.
URL:https://tarameditationcentre.org.au/program/sunday-guided-meditation-4-2/2027-10-31/
LOCATION:Tara Meditation Centre\, 18 Clifton Street\, Bunbury\, WA\, 6230\, Australia
CATEGORIES:Meditation
ATTACH;FMTTYPE=image/jpeg:https://tarameditationcentre.org.au/wp-content/uploads/2025/02/Events-2-Sun.jpeg
END:VEVENT
BEGIN:VEVENT
DTSTART;TZID=Australia/Perth:20271107T090000
DTEND;TZID=Australia/Perth:20271107T100000
DTSTAMP:20260421T103448
CREATED:20260112T122805Z
LAST-MODIFIED:20260113T010837Z
UID:10002393-1825578000-1825581600@tarameditationcentre.org.au
SUMMARY:Sunday Guided Meditation
DESCRIPTION:These guided meditations introduce ancient and simple techniques to calm the mind and help with stress and emotional difficulties for the purpose of developing increased awareness\, balance\, vitality and meaning in everyday life. \nSunday meditation sessions are available throughout the whole year\, except for the summer school holidays.
URL:https://tarameditationcentre.org.au/program/sunday-guided-meditation-4-2/2027-11-07/
LOCATION:Tara Meditation Centre\, 18 Clifton Street\, Bunbury\, WA\, 6230\, Australia
CATEGORIES:Meditation
ATTACH;FMTTYPE=image/jpeg:https://tarameditationcentre.org.au/wp-content/uploads/2025/02/Events-2-Sun.jpeg
END:VEVENT
BEGIN:VEVENT
DTSTART;TZID=Australia/Perth:20271114T090000
DTEND;TZID=Australia/Perth:20271114T100000
DTSTAMP:20260421T103448
CREATED:20260112T122805Z
LAST-MODIFIED:20260113T010837Z
UID:10002394-1826182800-1826186400@tarameditationcentre.org.au
SUMMARY:Sunday Guided Meditation
DESCRIPTION:These guided meditations introduce ancient and simple techniques to calm the mind and help with stress and emotional difficulties for the purpose of developing increased awareness\, balance\, vitality and meaning in everyday life. \nSunday meditation sessions are available throughout the whole year\, except for the summer school holidays.
URL:https://tarameditationcentre.org.au/program/sunday-guided-meditation-4-2/2027-11-14/
LOCATION:Tara Meditation Centre\, 18 Clifton Street\, Bunbury\, WA\, 6230\, Australia
CATEGORIES:Meditation
ATTACH;FMTTYPE=image/jpeg:https://tarameditationcentre.org.au/wp-content/uploads/2025/02/Events-2-Sun.jpeg
END:VEVENT
BEGIN:VEVENT
DTSTART;TZID=Australia/Perth:20271121T090000
DTEND;TZID=Australia/Perth:20271121T100000
DTSTAMP:20260421T103448
CREATED:20260112T122805Z
LAST-MODIFIED:20260113T010837Z
UID:10002395-1826787600-1826791200@tarameditationcentre.org.au
SUMMARY:Sunday Guided Meditation
DESCRIPTION:These guided meditations introduce ancient and simple techniques to calm the mind and help with stress and emotional difficulties for the purpose of developing increased awareness\, balance\, vitality and meaning in everyday life. \nSunday meditation sessions are available throughout the whole year\, except for the summer school holidays.
URL:https://tarameditationcentre.org.au/program/sunday-guided-meditation-4-2/2027-11-21/
LOCATION:Tara Meditation Centre\, 18 Clifton Street\, Bunbury\, WA\, 6230\, Australia
CATEGORIES:Meditation
ATTACH;FMTTYPE=image/jpeg:https://tarameditationcentre.org.au/wp-content/uploads/2025/02/Events-2-Sun.jpeg
END:VEVENT
BEGIN:VEVENT
DTSTART;TZID=Australia/Perth:20271128T090000
DTEND;TZID=Australia/Perth:20271128T100000
DTSTAMP:20260421T103448
CREATED:20260112T122805Z
LAST-MODIFIED:20260113T010837Z
UID:10002396-1827392400-1827396000@tarameditationcentre.org.au
SUMMARY:Sunday Guided Meditation
DESCRIPTION:These guided meditations introduce ancient and simple techniques to calm the mind and help with stress and emotional difficulties for the purpose of developing increased awareness\, balance\, vitality and meaning in everyday life. \nSunday meditation sessions are available throughout the whole year\, except for the summer school holidays.
URL:https://tarameditationcentre.org.au/program/sunday-guided-meditation-4-2/2027-11-28/
LOCATION:Tara Meditation Centre\, 18 Clifton Street\, Bunbury\, WA\, 6230\, Australia
CATEGORIES:Meditation
ATTACH;FMTTYPE=image/jpeg:https://tarameditationcentre.org.au/wp-content/uploads/2025/02/Events-2-Sun.jpeg
END:VEVENT
BEGIN:VEVENT
DTSTART;TZID=Australia/Perth:20271205T090000
DTEND;TZID=Australia/Perth:20271205T100000
DTSTAMP:20260421T103448
CREATED:20260112T122805Z
LAST-MODIFIED:20260113T010837Z
UID:10002397-1827997200-1828000800@tarameditationcentre.org.au
SUMMARY:Sunday Guided Meditation
DESCRIPTION:These guided meditations introduce ancient and simple techniques to calm the mind and help with stress and emotional difficulties for the purpose of developing increased awareness\, balance\, vitality and meaning in everyday life. \nSunday meditation sessions are available throughout the whole year\, except for the summer school holidays.
URL:https://tarameditationcentre.org.au/program/sunday-guided-meditation-4-2/2027-12-05/
LOCATION:Tara Meditation Centre\, 18 Clifton Street\, Bunbury\, WA\, 6230\, Australia
CATEGORIES:Meditation
ATTACH;FMTTYPE=image/jpeg:https://tarameditationcentre.org.au/wp-content/uploads/2025/02/Events-2-Sun.jpeg
END:VEVENT
BEGIN:VEVENT
DTSTART;TZID=Australia/Perth:20271212T090000
DTEND;TZID=Australia/Perth:20271212T100000
DTSTAMP:20260421T103448
CREATED:20260112T122805Z
LAST-MODIFIED:20260113T010837Z
UID:10002398-1828602000-1828605600@tarameditationcentre.org.au
SUMMARY:Sunday Guided Meditation
DESCRIPTION:These guided meditations introduce ancient and simple techniques to calm the mind and help with stress and emotional difficulties for the purpose of developing increased awareness\, balance\, vitality and meaning in everyday life. \nSunday meditation sessions are available throughout the whole year\, except for the summer school holidays.
URL:https://tarameditationcentre.org.au/program/sunday-guided-meditation-4-2/2027-12-12/
LOCATION:Tara Meditation Centre\, 18 Clifton Street\, Bunbury\, WA\, 6230\, Australia
CATEGORIES:Meditation
ATTACH;FMTTYPE=image/jpeg:https://tarameditationcentre.org.au/wp-content/uploads/2025/02/Events-2-Sun.jpeg
END:VEVENT
BEGIN:VEVENT
DTSTART;TZID=Australia/Perth:20271219T090000
DTEND;TZID=Australia/Perth:20271219T100000
DTSTAMP:20260421T103448
CREATED:20260112T122805Z
LAST-MODIFIED:20260113T010837Z
UID:10002399-1829206800-1829210400@tarameditationcentre.org.au
SUMMARY:Sunday Guided Meditation
DESCRIPTION:These guided meditations introduce ancient and simple techniques to calm the mind and help with stress and emotional difficulties for the purpose of developing increased awareness\, balance\, vitality and meaning in everyday life. \nSunday meditation sessions are available throughout the whole year\, except for the summer school holidays.
URL:https://tarameditationcentre.org.au/program/sunday-guided-meditation-4-2/2027-12-19/
LOCATION:Tara Meditation Centre\, 18 Clifton Street\, Bunbury\, WA\, 6230\, Australia
CATEGORIES:Meditation
ATTACH;FMTTYPE=image/jpeg:https://tarameditationcentre.org.au/wp-content/uploads/2025/02/Events-2-Sun.jpeg
END:VEVENT
END:VCALENDAR