BEGIN:VCALENDAR
VERSION:2.0
PRODID:-//Buddhist Teaching, Yoga &amp; Meditation Centre, Bunbury - ECPv6.15.17//NONSGML v1.0//EN
CALSCALE:GREGORIAN
METHOD:PUBLISH
X-WR-CALNAME:Buddhist Teaching, Yoga &amp; Meditation Centre, Bunbury
X-ORIGINAL-URL:https://tarameditationcentre.org.au
X-WR-CALDESC:Events for Buddhist Teaching, Yoga &amp; Meditation Centre, Bunbury
REFRESH-INTERVAL;VALUE=DURATION:PT1H
X-Robots-Tag:noindex
X-PUBLISHED-TTL:PT1H
BEGIN:VTIMEZONE
TZID:Australia/Perth
BEGIN:STANDARD
TZOFFSETFROM:+0800
TZOFFSETTO:+0800
TZNAME:AWST
DTSTART:20250101T000000
END:STANDARD
END:VTIMEZONE
BEGIN:VEVENT
DTSTART;TZID=Australia/Perth:20260202T100000
DTEND;TZID=Australia/Perth:20260202T113000
DTSTAMP:20260420T111137
CREATED:20260112T123955Z
LAST-MODIFIED:20260310T120930Z
UID:10002085-1770026400-1770031800@tarameditationcentre.org.au
SUMMARY:Gentle Yoga with Gyani
DESCRIPTION:A slow and relaxing Hatha yoga class including breathing\, gentle flowing movements\, passive and supported poses\, and yoga nidra or relaxation to finish. This is a perfect beginning yoga class that is also appropriate for those working with limited mobility\, or who prefer a softer\, gentler approach to yoga. Suitable for all levels. \n  \n\n\nPRICING\n\n\n\n90 min class per week in 5-week block: $100 / $90 concession\n\nYou will be signed up for the same class each week. If you book into a second class each week\, then you can pay the concession rate for that second class.\n\nCasuals are offered if there is space on first come first serve basis.\n90 min class $22 / $20 concession\n\nIf you have any queries please contact us.
URL:https://tarameditationcentre.org.au/program/gentle-yoga-4/2026-02-02/
LOCATION:Tara Meditation Centre\, 18 Clifton Street\, Bunbury\, WA\, 6230\, Australia
CATEGORIES:Yoga Classes
ATTACH;FMTTYPE=image/jpeg:https://tarameditationcentre.org.au/wp-content/uploads/2025/02/Events-14.jpg
END:VEVENT
BEGIN:VEVENT
DTSTART;TZID=Australia/Perth:20260201T160000
DTEND;TZID=Australia/Perth:20260201T170000
DTSTAMP:20260420T111137
CREATED:20260112T120948Z
LAST-MODIFIED:20260113T004433Z
UID:10001832-1769961600-1769965200@tarameditationcentre.org.au
SUMMARY:Medicine Buddha Puja
DESCRIPTION:The seven Medicine Buddhas appeared to remove obstacles on the path to temporary happiness\, liberation and the ultimate happiness of full enlightenment. They are specifically powerful in the healing of illnesses and the purification of negative karma. \nThe practice of Medicine Buddha can also be done to help other people who are deceased\, in order to liberate them from further suffering. You are welcome to sponsor a puja for ill loved ones and success in your activities. \nAll welcome. Flowers and food (unopened)\, welcome. \n  \nFollows the Nongdro Retreat
URL:https://tarameditationcentre.org.au/program/medicine-buddha-puja-4/
LOCATION:Tara Meditation Centre\, 18 Clifton Street\, Bunbury\, WA\, 6230\, Australia
CATEGORIES:Holy Day,Puja
ATTACH;FMTTYPE=image/jpeg:https://tarameditationcentre.org.au/wp-content/uploads/2025/05/Capture.jpg
END:VEVENT
BEGIN:VEVENT
DTSTART;TZID=Australia/Perth:20260201T103000
DTEND;TZID=Australia/Perth:20260201T153000
DTSTAMP:20260420T111137
CREATED:20251211T031311Z
LAST-MODIFIED:20260113T004144Z
UID:10001710-1769941800-1769959800@tarameditationcentre.org.au
SUMMARY:NONGDRO 'REFUGE RETREAT'
DESCRIPTION:A ideal opportunity for those yet to start the daily nongdro practice Geshe Zopa introduced in July\, and a chance for those already doing it to dedicate more time to the practice. \n(please bring a vegan/vegetarian dish to share\, preferably gluten free) \n  \n 
URL:https://tarameditationcentre.org.au/program/nongdro-refuge-retreat-3/
LOCATION:Tara Meditation Centre\, 18 Clifton Street\, Bunbury\, WA\, 6230\, Australia
CATEGORIES:Holy Day
ATTACH;FMTTYPE=image/jpeg:https://tarameditationcentre.org.au/wp-content/uploads/2025/12/Nongdro-Retreat.jpg
END:VEVENT
BEGIN:VEVENT
DTSTART;TZID=Australia/Perth:20260201T090000
DTEND;TZID=Australia/Perth:20260201T100000
DTSTAMP:20260420T111137
CREATED:20260112T122805Z
LAST-MODIFIED:20260113T010837Z
UID:10002006-1769936400-1769940000@tarameditationcentre.org.au
SUMMARY:Sunday Guided Meditation
DESCRIPTION:These guided meditations introduce ancient and simple techniques to calm the mind and help with stress and emotional difficulties for the purpose of developing increased awareness\, balance\, vitality and meaning in everyday life. \nSunday meditation sessions are available throughout the whole year\, except for the summer school holidays.
URL:https://tarameditationcentre.org.au/program/sunday-guided-meditation-4-2/2026-02-01/
LOCATION:Tara Meditation Centre\, 18 Clifton Street\, Bunbury\, WA\, 6230\, Australia
CATEGORIES:Meditation
ATTACH;FMTTYPE=image/jpeg:https://tarameditationcentre.org.au/wp-content/uploads/2025/02/Events-2-Sun.jpeg
END:VEVENT
BEGIN:VEVENT
DTSTART;TZID=Australia/Perth:20260131T103000
DTEND;TZID=Australia/Perth:20260131T153000
DTSTAMP:20260420T111137
CREATED:20251211T031248Z
LAST-MODIFIED:20260113T004123Z
UID:10001709-1769855400-1769873400@tarameditationcentre.org.au
SUMMARY:NONGDRO 'REFUGE RETREAT'
DESCRIPTION:A ideal opportunity for those yet to start the daily nongdro practice Geshe Zopa introduced in July\, and a chance for those already doing it to dedicate more time to the practice. \n(please bring a vegan/vegetarian dish to share\, preferably gluten free) \n  \n 
URL:https://tarameditationcentre.org.au/program/nongdro-refuge-retreat-2/
LOCATION:Tara Meditation Centre\, 18 Clifton Street\, Bunbury\, WA\, 6230\, Australia
CATEGORIES:Holy Day
ATTACH;FMTTYPE=image/jpeg:https://tarameditationcentre.org.au/wp-content/uploads/2025/12/Nongdro-Retreat.jpg
END:VEVENT
BEGIN:VEVENT
DTSTART;TZID=Australia/Perth:20260130T170000
DTEND;TZID=Australia/Perth:20260130T183000
DTSTAMP:20260420T111137
CREATED:20251211T030846Z
LAST-MODIFIED:20260113T003951Z
UID:10001706-1769792400-1769797800@tarameditationcentre.org.au
SUMMARY:NONGDRO 'REFUGE RETREAT'
DESCRIPTION:A ideal opportunity for those yet to start the daily nongdro practice Geshe Zopa introduced in July\, and a chance for those already doing it to dedicate more time to the practice. \n  \n 
URL:https://tarameditationcentre.org.au/program/nongdro-refuge-retreat/
LOCATION:Tara Meditation Centre\, 18 Clifton Street\, Bunbury\, WA\, 6230\, Australia
CATEGORIES:Buddhist Teachings
ATTACH;FMTTYPE=image/jpeg:https://tarameditationcentre.org.au/wp-content/uploads/2025/12/Nongdro-Retreat.jpg
END:VEVENT
BEGIN:VEVENT
DTSTART;TZID=Australia/Perth:20260129T130000
DTEND;TZID=Australia/Perth:20260129T160000
DTSTAMP:20260420T111137
CREATED:20251122T080645Z
LAST-MODIFIED:20260113T005826Z
UID:10001705-1769691600-1769702400@tarameditationcentre.org.au
SUMMARY:Buddhist Summer School with Venerable Choyki
DESCRIPTION:Everything you wanted to know about Buddhism but didn’t know who to ask.These will be very informal sessions where you can bring any questions about Buddhism for our resident teacher Venerable Choyki to answer. You can attend any or all of the sessions\, & people of all ages are most welcome.\n\n\nCost per day $30 /$25 members/concessionAny questions contact spc@hmt.org.au\n  \n 
URL:https://tarameditationcentre.org.au/program/buddhist-summer-school-with-venerable-choyki/2026-01-29/
LOCATION:Tara Meditation Centre\, 18 Clifton Street\, Bunbury\, WA\, 6230\, Australia
CATEGORIES:Buddhist Teachings
ATTACH;FMTTYPE=image/jpeg:https://tarameditationcentre.org.au/wp-content/uploads/2024/01/Ven-Chokyi_400x400.jpg
ORGANIZER;CN="Tara Meditation Centre":MAILTO:welcome@tarameditationcentre.org.au
END:VEVENT
BEGIN:VEVENT
DTSTART;TZID=Australia/Perth:20260128T130000
DTEND;TZID=Australia/Perth:20260128T160000
DTSTAMP:20260420T111137
CREATED:20251122T080645Z
LAST-MODIFIED:20260113T005826Z
UID:10001704-1769605200-1769616000@tarameditationcentre.org.au
SUMMARY:Buddhist Summer School with Venerable Choyki
DESCRIPTION:Everything you wanted to know about Buddhism but didn’t know who to ask.These will be very informal sessions where you can bring any questions about Buddhism for our resident teacher Venerable Choyki to answer. You can attend any or all of the sessions\, & people of all ages are most welcome.\n\n\nCost per day $30 /$25 members/concessionAny questions contact spc@hmt.org.au\n  \n 
URL:https://tarameditationcentre.org.au/program/buddhist-summer-school-with-venerable-choyki/2026-01-28/
LOCATION:Tara Meditation Centre\, 18 Clifton Street\, Bunbury\, WA\, 6230\, Australia
CATEGORIES:Buddhist Teachings
ATTACH;FMTTYPE=image/jpeg:https://tarameditationcentre.org.au/wp-content/uploads/2024/01/Ven-Chokyi_400x400.jpg
ORGANIZER;CN="Tara Meditation Centre":MAILTO:welcome@tarameditationcentre.org.au
END:VEVENT
BEGIN:VEVENT
DTSTART;TZID=Australia/Perth:20260127T130000
DTEND;TZID=Australia/Perth:20260127T160000
DTSTAMP:20260420T111137
CREATED:20251122T080645Z
LAST-MODIFIED:20260113T005826Z
UID:10001703-1769518800-1769529600@tarameditationcentre.org.au
SUMMARY:Buddhist Summer School with Venerable Choyki
DESCRIPTION:Everything you wanted to know about Buddhism but didn’t know who to ask.These will be very informal sessions where you can bring any questions about Buddhism for our resident teacher Venerable Choyki to answer. You can attend any or all of the sessions\, & people of all ages are most welcome.\n\n\nCost per day $30 /$25 members/concessionAny questions contact spc@hmt.org.au\n  \n 
URL:https://tarameditationcentre.org.au/program/buddhist-summer-school-with-venerable-choyki/2026-01-27/
LOCATION:Tara Meditation Centre\, 18 Clifton Street\, Bunbury\, WA\, 6230\, Australia
CATEGORIES:Buddhist Teachings
ATTACH;FMTTYPE=image/jpeg:https://tarameditationcentre.org.au/wp-content/uploads/2024/01/Ven-Chokyi_400x400.jpg
ORGANIZER;CN="Tara Meditation Centre":MAILTO:welcome@tarameditationcentre.org.au
END:VEVENT
END:VCALENDAR