BEGIN:VCALENDAR
VERSION:2.0
PRODID:-//Buddhist Teaching, Yoga &amp; Meditation Centre, Bunbury - ECPv6.15.17//NONSGML v1.0//EN
CALSCALE:GREGORIAN
METHOD:PUBLISH
X-ORIGINAL-URL:https://tarameditationcentre.org.au
X-WR-CALDESC:Events for Buddhist Teaching, Yoga &amp; Meditation Centre, Bunbury
REFRESH-INTERVAL;VALUE=DURATION:PT1H
X-Robots-Tag:noindex
X-PUBLISHED-TTL:PT1H
BEGIN:VTIMEZONE
TZID:Australia/Perth
BEGIN:STANDARD
TZOFFSETFROM:+0800
TZOFFSETTO:+0800
TZNAME:AWST
DTSTART:20260101T000000
END:STANDARD
END:VTIMEZONE
BEGIN:VEVENT
DTSTART;TZID=Australia/Perth:20270325T100000
DTEND;TZID=Australia/Perth:20270325T113000
DTSTAMP:20260425T185838
CREATED:20260402T071936Z
LAST-MODIFIED:20260402T072447Z
UID:10002693-1805968800-1805974200@tarameditationcentre.org.au
SUMMARY:Yin & Restore Yoga with Gyani
DESCRIPTION:Yin yoga is a gentle practice that is all about slowing down and opening your body through passive stretching. During the longer holds your muscles are allowed to relax deeply\, as you are using props rather than your muscles to support your body. There will also be a focus on the breath and breathing practices to restore and reset and end with a yoga nidra to enable a deep physical\, mental and emotional relaxation. Suitable for all levels. \n  \nPRICING \n\n90 min class per week in 5-week block: $100 / $90 concession\n\nYou will be signed up for the same class each week. If you book into a second class each week\, then you can pay the concession rate for that second class. \n\nCasuals are offered if there is space on first come first serve basis.\n90 min class $22 / $20 concession\n\nIf you have any queries please contact us.
URL:https://tarameditationcentre.org.au/program/yin-restore-yoga-with-gyani-2/2027-03-25/
LOCATION:Tara Meditation Centre\, 18 Clifton Street\, Bunbury\, WA\, 6230\, Australia
CATEGORIES:Yoga Classes
ATTACH;FMTTYPE=image/jpeg:https://tarameditationcentre.org.au/wp-content/uploads/2025/02/Events-11.jpg
END:VEVENT
BEGIN:VEVENT
DTSTART;TZID=Australia/Perth:20270401T100000
DTEND;TZID=Australia/Perth:20270401T113000
DTSTAMP:20260425T185838
CREATED:20260402T071936Z
LAST-MODIFIED:20260402T072447Z
UID:10002694-1806573600-1806579000@tarameditationcentre.org.au
SUMMARY:Yin & Restore Yoga with Gyani
DESCRIPTION:Yin yoga is a gentle practice that is all about slowing down and opening your body through passive stretching. During the longer holds your muscles are allowed to relax deeply\, as you are using props rather than your muscles to support your body. There will also be a focus on the breath and breathing practices to restore and reset and end with a yoga nidra to enable a deep physical\, mental and emotional relaxation. Suitable for all levels. \n  \nPRICING \n\n90 min class per week in 5-week block: $100 / $90 concession\n\nYou will be signed up for the same class each week. If you book into a second class each week\, then you can pay the concession rate for that second class. \n\nCasuals are offered if there is space on first come first serve basis.\n90 min class $22 / $20 concession\n\nIf you have any queries please contact us.
URL:https://tarameditationcentre.org.au/program/yin-restore-yoga-with-gyani-2/2027-04-01/
LOCATION:Tara Meditation Centre\, 18 Clifton Street\, Bunbury\, WA\, 6230\, Australia
CATEGORIES:Yoga Classes
ATTACH;FMTTYPE=image/jpeg:https://tarameditationcentre.org.au/wp-content/uploads/2025/02/Events-11.jpg
END:VEVENT
BEGIN:VEVENT
DTSTART;TZID=Australia/Perth:20270408T100000
DTEND;TZID=Australia/Perth:20270408T113000
DTSTAMP:20260425T185838
CREATED:20260402T071936Z
LAST-MODIFIED:20260402T072447Z
UID:10002695-1807178400-1807183800@tarameditationcentre.org.au
SUMMARY:Yin & Restore Yoga with Gyani
DESCRIPTION:Yin yoga is a gentle practice that is all about slowing down and opening your body through passive stretching. During the longer holds your muscles are allowed to relax deeply\, as you are using props rather than your muscles to support your body. There will also be a focus on the breath and breathing practices to restore and reset and end with a yoga nidra to enable a deep physical\, mental and emotional relaxation. Suitable for all levels. \n  \nPRICING \n\n90 min class per week in 5-week block: $100 / $90 concession\n\nYou will be signed up for the same class each week. If you book into a second class each week\, then you can pay the concession rate for that second class. \n\nCasuals are offered if there is space on first come first serve basis.\n90 min class $22 / $20 concession\n\nIf you have any queries please contact us.
URL:https://tarameditationcentre.org.au/program/yin-restore-yoga-with-gyani-2/2027-04-08/
LOCATION:Tara Meditation Centre\, 18 Clifton Street\, Bunbury\, WA\, 6230\, Australia
CATEGORIES:Yoga Classes
ATTACH;FMTTYPE=image/jpeg:https://tarameditationcentre.org.au/wp-content/uploads/2025/02/Events-11.jpg
END:VEVENT
BEGIN:VEVENT
DTSTART;TZID=Australia/Perth:20270415T100000
DTEND;TZID=Australia/Perth:20270415T113000
DTSTAMP:20260425T185838
CREATED:20260402T071936Z
LAST-MODIFIED:20260402T072447Z
UID:10002696-1807783200-1807788600@tarameditationcentre.org.au
SUMMARY:Yin & Restore Yoga with Gyani
DESCRIPTION:Yin yoga is a gentle practice that is all about slowing down and opening your body through passive stretching. During the longer holds your muscles are allowed to relax deeply\, as you are using props rather than your muscles to support your body. There will also be a focus on the breath and breathing practices to restore and reset and end with a yoga nidra to enable a deep physical\, mental and emotional relaxation. Suitable for all levels. \n  \nPRICING \n\n90 min class per week in 5-week block: $100 / $90 concession\n\nYou will be signed up for the same class each week. If you book into a second class each week\, then you can pay the concession rate for that second class. \n\nCasuals are offered if there is space on first come first serve basis.\n90 min class $22 / $20 concession\n\nIf you have any queries please contact us.
URL:https://tarameditationcentre.org.au/program/yin-restore-yoga-with-gyani-2/2027-04-15/
LOCATION:Tara Meditation Centre\, 18 Clifton Street\, Bunbury\, WA\, 6230\, Australia
CATEGORIES:Yoga Classes
ATTACH;FMTTYPE=image/jpeg:https://tarameditationcentre.org.au/wp-content/uploads/2025/02/Events-11.jpg
END:VEVENT
BEGIN:VEVENT
DTSTART;TZID=Australia/Perth:20270422T100000
DTEND;TZID=Australia/Perth:20270422T113000
DTSTAMP:20260425T185838
CREATED:20260402T071936Z
LAST-MODIFIED:20260402T072447Z
UID:10002697-1808388000-1808393400@tarameditationcentre.org.au
SUMMARY:Yin & Restore Yoga with Gyani
DESCRIPTION:Yin yoga is a gentle practice that is all about slowing down and opening your body through passive stretching. During the longer holds your muscles are allowed to relax deeply\, as you are using props rather than your muscles to support your body. There will also be a focus on the breath and breathing practices to restore and reset and end with a yoga nidra to enable a deep physical\, mental and emotional relaxation. Suitable for all levels. \n  \nPRICING \n\n90 min class per week in 5-week block: $100 / $90 concession\n\nYou will be signed up for the same class each week. If you book into a second class each week\, then you can pay the concession rate for that second class. \n\nCasuals are offered if there is space on first come first serve basis.\n90 min class $22 / $20 concession\n\nIf you have any queries please contact us.
URL:https://tarameditationcentre.org.au/program/yin-restore-yoga-with-gyani-2/2027-04-22/
LOCATION:Tara Meditation Centre\, 18 Clifton Street\, Bunbury\, WA\, 6230\, Australia
CATEGORIES:Yoga Classes
ATTACH;FMTTYPE=image/jpeg:https://tarameditationcentre.org.au/wp-content/uploads/2025/02/Events-11.jpg
END:VEVENT
BEGIN:VEVENT
DTSTART;TZID=Australia/Perth:20270429T100000
DTEND;TZID=Australia/Perth:20270429T113000
DTSTAMP:20260425T185838
CREATED:20260402T071936Z
LAST-MODIFIED:20260402T072447Z
UID:10002698-1808992800-1808998200@tarameditationcentre.org.au
SUMMARY:Yin & Restore Yoga with Gyani
DESCRIPTION:Yin yoga is a gentle practice that is all about slowing down and opening your body through passive stretching. During the longer holds your muscles are allowed to relax deeply\, as you are using props rather than your muscles to support your body. There will also be a focus on the breath and breathing practices to restore and reset and end with a yoga nidra to enable a deep physical\, mental and emotional relaxation. Suitable for all levels. \n  \nPRICING \n\n90 min class per week in 5-week block: $100 / $90 concession\n\nYou will be signed up for the same class each week. If you book into a second class each week\, then you can pay the concession rate for that second class. \n\nCasuals are offered if there is space on first come first serve basis.\n90 min class $22 / $20 concession\n\nIf you have any queries please contact us.
URL:https://tarameditationcentre.org.au/program/yin-restore-yoga-with-gyani-2/2027-04-29/
LOCATION:Tara Meditation Centre\, 18 Clifton Street\, Bunbury\, WA\, 6230\, Australia
CATEGORIES:Yoga Classes
ATTACH;FMTTYPE=image/jpeg:https://tarameditationcentre.org.au/wp-content/uploads/2025/02/Events-11.jpg
END:VEVENT
BEGIN:VEVENT
DTSTART;TZID=Australia/Perth:20270506T100000
DTEND;TZID=Australia/Perth:20270506T113000
DTSTAMP:20260425T185838
CREATED:20260402T071936Z
LAST-MODIFIED:20260402T072447Z
UID:10002699-1809597600-1809603000@tarameditationcentre.org.au
SUMMARY:Yin & Restore Yoga with Gyani
DESCRIPTION:Yin yoga is a gentle practice that is all about slowing down and opening your body through passive stretching. During the longer holds your muscles are allowed to relax deeply\, as you are using props rather than your muscles to support your body. There will also be a focus on the breath and breathing practices to restore and reset and end with a yoga nidra to enable a deep physical\, mental and emotional relaxation. Suitable for all levels. \n  \nPRICING \n\n90 min class per week in 5-week block: $100 / $90 concession\n\nYou will be signed up for the same class each week. If you book into a second class each week\, then you can pay the concession rate for that second class. \n\nCasuals are offered if there is space on first come first serve basis.\n90 min class $22 / $20 concession\n\nIf you have any queries please contact us.
URL:https://tarameditationcentre.org.au/program/yin-restore-yoga-with-gyani-2/2027-05-06/
LOCATION:Tara Meditation Centre\, 18 Clifton Street\, Bunbury\, WA\, 6230\, Australia
CATEGORIES:Yoga Classes
ATTACH;FMTTYPE=image/jpeg:https://tarameditationcentre.org.au/wp-content/uploads/2025/02/Events-11.jpg
END:VEVENT
BEGIN:VEVENT
DTSTART;TZID=Australia/Perth:20270513T100000
DTEND;TZID=Australia/Perth:20270513T113000
DTSTAMP:20260425T185838
CREATED:20260402T071936Z
LAST-MODIFIED:20260402T072447Z
UID:10002700-1810202400-1810207800@tarameditationcentre.org.au
SUMMARY:Yin & Restore Yoga with Gyani
DESCRIPTION:Yin yoga is a gentle practice that is all about slowing down and opening your body through passive stretching. During the longer holds your muscles are allowed to relax deeply\, as you are using props rather than your muscles to support your body. There will also be a focus on the breath and breathing practices to restore and reset and end with a yoga nidra to enable a deep physical\, mental and emotional relaxation. Suitable for all levels. \n  \nPRICING \n\n90 min class per week in 5-week block: $100 / $90 concession\n\nYou will be signed up for the same class each week. If you book into a second class each week\, then you can pay the concession rate for that second class. \n\nCasuals are offered if there is space on first come first serve basis.\n90 min class $22 / $20 concession\n\nIf you have any queries please contact us.
URL:https://tarameditationcentre.org.au/program/yin-restore-yoga-with-gyani-2/2027-05-13/
LOCATION:Tara Meditation Centre\, 18 Clifton Street\, Bunbury\, WA\, 6230\, Australia
CATEGORIES:Yoga Classes
ATTACH;FMTTYPE=image/jpeg:https://tarameditationcentre.org.au/wp-content/uploads/2025/02/Events-11.jpg
END:VEVENT
BEGIN:VEVENT
DTSTART;TZID=Australia/Perth:20270520T100000
DTEND;TZID=Australia/Perth:20270520T113000
DTSTAMP:20260425T185838
CREATED:20260402T071936Z
LAST-MODIFIED:20260402T072447Z
UID:10002701-1810807200-1810812600@tarameditationcentre.org.au
SUMMARY:Yin & Restore Yoga with Gyani
DESCRIPTION:Yin yoga is a gentle practice that is all about slowing down and opening your body through passive stretching. During the longer holds your muscles are allowed to relax deeply\, as you are using props rather than your muscles to support your body. There will also be a focus on the breath and breathing practices to restore and reset and end with a yoga nidra to enable a deep physical\, mental and emotional relaxation. Suitable for all levels. \n  \nPRICING \n\n90 min class per week in 5-week block: $100 / $90 concession\n\nYou will be signed up for the same class each week. If you book into a second class each week\, then you can pay the concession rate for that second class. \n\nCasuals are offered if there is space on first come first serve basis.\n90 min class $22 / $20 concession\n\nIf you have any queries please contact us.
URL:https://tarameditationcentre.org.au/program/yin-restore-yoga-with-gyani-2/2027-05-20/
LOCATION:Tara Meditation Centre\, 18 Clifton Street\, Bunbury\, WA\, 6230\, Australia
CATEGORIES:Yoga Classes
ATTACH;FMTTYPE=image/jpeg:https://tarameditationcentre.org.au/wp-content/uploads/2025/02/Events-11.jpg
END:VEVENT
BEGIN:VEVENT
DTSTART;TZID=Australia/Perth:20270527T100000
DTEND;TZID=Australia/Perth:20270527T113000
DTSTAMP:20260425T185838
CREATED:20260402T071936Z
LAST-MODIFIED:20260402T072447Z
UID:10002702-1811412000-1811417400@tarameditationcentre.org.au
SUMMARY:Yin & Restore Yoga with Gyani
DESCRIPTION:Yin yoga is a gentle practice that is all about slowing down and opening your body through passive stretching. During the longer holds your muscles are allowed to relax deeply\, as you are using props rather than your muscles to support your body. There will also be a focus on the breath and breathing practices to restore and reset and end with a yoga nidra to enable a deep physical\, mental and emotional relaxation. Suitable for all levels. \n  \nPRICING \n\n90 min class per week in 5-week block: $100 / $90 concession\n\nYou will be signed up for the same class each week. If you book into a second class each week\, then you can pay the concession rate for that second class. \n\nCasuals are offered if there is space on first come first serve basis.\n90 min class $22 / $20 concession\n\nIf you have any queries please contact us.
URL:https://tarameditationcentre.org.au/program/yin-restore-yoga-with-gyani-2/2027-05-27/
LOCATION:Tara Meditation Centre\, 18 Clifton Street\, Bunbury\, WA\, 6230\, Australia
CATEGORIES:Yoga Classes
ATTACH;FMTTYPE=image/jpeg:https://tarameditationcentre.org.au/wp-content/uploads/2025/02/Events-11.jpg
END:VEVENT
BEGIN:VEVENT
DTSTART;TZID=Australia/Perth:20270603T100000
DTEND;TZID=Australia/Perth:20270603T113000
DTSTAMP:20260425T185838
CREATED:20260402T071936Z
LAST-MODIFIED:20260402T072447Z
UID:10002703-1812016800-1812022200@tarameditationcentre.org.au
SUMMARY:Yin & Restore Yoga with Gyani
DESCRIPTION:Yin yoga is a gentle practice that is all about slowing down and opening your body through passive stretching. During the longer holds your muscles are allowed to relax deeply\, as you are using props rather than your muscles to support your body. There will also be a focus on the breath and breathing practices to restore and reset and end with a yoga nidra to enable a deep physical\, mental and emotional relaxation. Suitable for all levels. \n  \nPRICING \n\n90 min class per week in 5-week block: $100 / $90 concession\n\nYou will be signed up for the same class each week. If you book into a second class each week\, then you can pay the concession rate for that second class. \n\nCasuals are offered if there is space on first come first serve basis.\n90 min class $22 / $20 concession\n\nIf you have any queries please contact us.
URL:https://tarameditationcentre.org.au/program/yin-restore-yoga-with-gyani-2/2027-06-03/
LOCATION:Tara Meditation Centre\, 18 Clifton Street\, Bunbury\, WA\, 6230\, Australia
CATEGORIES:Yoga Classes
ATTACH;FMTTYPE=image/jpeg:https://tarameditationcentre.org.au/wp-content/uploads/2025/02/Events-11.jpg
END:VEVENT
BEGIN:VEVENT
DTSTART;TZID=Australia/Perth:20270610T100000
DTEND;TZID=Australia/Perth:20270610T113000
DTSTAMP:20260425T185838
CREATED:20260402T071936Z
LAST-MODIFIED:20260402T072447Z
UID:10002704-1812621600-1812627000@tarameditationcentre.org.au
SUMMARY:Yin & Restore Yoga with Gyani
DESCRIPTION:Yin yoga is a gentle practice that is all about slowing down and opening your body through passive stretching. During the longer holds your muscles are allowed to relax deeply\, as you are using props rather than your muscles to support your body. There will also be a focus on the breath and breathing practices to restore and reset and end with a yoga nidra to enable a deep physical\, mental and emotional relaxation. Suitable for all levels. \n  \nPRICING \n\n90 min class per week in 5-week block: $100 / $90 concession\n\nYou will be signed up for the same class each week. If you book into a second class each week\, then you can pay the concession rate for that second class. \n\nCasuals are offered if there is space on first come first serve basis.\n90 min class $22 / $20 concession\n\nIf you have any queries please contact us.
URL:https://tarameditationcentre.org.au/program/yin-restore-yoga-with-gyani-2/2027-06-10/
LOCATION:Tara Meditation Centre\, 18 Clifton Street\, Bunbury\, WA\, 6230\, Australia
CATEGORIES:Yoga Classes
ATTACH;FMTTYPE=image/jpeg:https://tarameditationcentre.org.au/wp-content/uploads/2025/02/Events-11.jpg
END:VEVENT
BEGIN:VEVENT
DTSTART;TZID=Australia/Perth:20270617T100000
DTEND;TZID=Australia/Perth:20270617T113000
DTSTAMP:20260425T185838
CREATED:20260402T071936Z
LAST-MODIFIED:20260402T072447Z
UID:10002705-1813226400-1813231800@tarameditationcentre.org.au
SUMMARY:Yin & Restore Yoga with Gyani
DESCRIPTION:Yin yoga is a gentle practice that is all about slowing down and opening your body through passive stretching. During the longer holds your muscles are allowed to relax deeply\, as you are using props rather than your muscles to support your body. There will also be a focus on the breath and breathing practices to restore and reset and end with a yoga nidra to enable a deep physical\, mental and emotional relaxation. Suitable for all levels. \n  \nPRICING \n\n90 min class per week in 5-week block: $100 / $90 concession\n\nYou will be signed up for the same class each week. If you book into a second class each week\, then you can pay the concession rate for that second class. \n\nCasuals are offered if there is space on first come first serve basis.\n90 min class $22 / $20 concession\n\nIf you have any queries please contact us.
URL:https://tarameditationcentre.org.au/program/yin-restore-yoga-with-gyani-2/2027-06-17/
LOCATION:Tara Meditation Centre\, 18 Clifton Street\, Bunbury\, WA\, 6230\, Australia
CATEGORIES:Yoga Classes
ATTACH;FMTTYPE=image/jpeg:https://tarameditationcentre.org.au/wp-content/uploads/2025/02/Events-11.jpg
END:VEVENT
BEGIN:VEVENT
DTSTART;TZID=Australia/Perth:20270624T100000
DTEND;TZID=Australia/Perth:20270624T113000
DTSTAMP:20260425T185838
CREATED:20260402T071936Z
LAST-MODIFIED:20260402T072447Z
UID:10002706-1813831200-1813836600@tarameditationcentre.org.au
SUMMARY:Yin & Restore Yoga with Gyani
DESCRIPTION:Yin yoga is a gentle practice that is all about slowing down and opening your body through passive stretching. During the longer holds your muscles are allowed to relax deeply\, as you are using props rather than your muscles to support your body. There will also be a focus on the breath and breathing practices to restore and reset and end with a yoga nidra to enable a deep physical\, mental and emotional relaxation. Suitable for all levels. \n  \nPRICING \n\n90 min class per week in 5-week block: $100 / $90 concession\n\nYou will be signed up for the same class each week. If you book into a second class each week\, then you can pay the concession rate for that second class. \n\nCasuals are offered if there is space on first come first serve basis.\n90 min class $22 / $20 concession\n\nIf you have any queries please contact us.
URL:https://tarameditationcentre.org.au/program/yin-restore-yoga-with-gyani-2/2027-06-24/
LOCATION:Tara Meditation Centre\, 18 Clifton Street\, Bunbury\, WA\, 6230\, Australia
CATEGORIES:Yoga Classes
ATTACH;FMTTYPE=image/jpeg:https://tarameditationcentre.org.au/wp-content/uploads/2025/02/Events-11.jpg
END:VEVENT
BEGIN:VEVENT
DTSTART;TZID=Australia/Perth:20270701T100000
DTEND;TZID=Australia/Perth:20270701T113000
DTSTAMP:20260425T185838
CREATED:20260402T071936Z
LAST-MODIFIED:20260402T072447Z
UID:10002707-1814436000-1814441400@tarameditationcentre.org.au
SUMMARY:Yin & Restore Yoga with Gyani
DESCRIPTION:Yin yoga is a gentle practice that is all about slowing down and opening your body through passive stretching. During the longer holds your muscles are allowed to relax deeply\, as you are using props rather than your muscles to support your body. There will also be a focus on the breath and breathing practices to restore and reset and end with a yoga nidra to enable a deep physical\, mental and emotional relaxation. Suitable for all levels. \n  \nPRICING \n\n90 min class per week in 5-week block: $100 / $90 concession\n\nYou will be signed up for the same class each week. If you book into a second class each week\, then you can pay the concession rate for that second class. \n\nCasuals are offered if there is space on first come first serve basis.\n90 min class $22 / $20 concession\n\nIf you have any queries please contact us.
URL:https://tarameditationcentre.org.au/program/yin-restore-yoga-with-gyani-2/2027-07-01/
LOCATION:Tara Meditation Centre\, 18 Clifton Street\, Bunbury\, WA\, 6230\, Australia
CATEGORIES:Yoga Classes
ATTACH;FMTTYPE=image/jpeg:https://tarameditationcentre.org.au/wp-content/uploads/2025/02/Events-11.jpg
END:VEVENT
END:VCALENDAR