BEGIN:VCALENDAR
VERSION:2.0
PRODID:-//Buddhist Teaching, Yoga &amp; Meditation Centre, Bunbury - ECPv6.15.17//NONSGML v1.0//EN
CALSCALE:GREGORIAN
METHOD:PUBLISH
X-ORIGINAL-URL:https://tarameditationcentre.org.au
X-WR-CALDESC:Events for Buddhist Teaching, Yoga &amp; Meditation Centre, Bunbury
REFRESH-INTERVAL;VALUE=DURATION:PT1H
X-Robots-Tag:noindex
X-PUBLISHED-TTL:PT1H
BEGIN:VTIMEZONE
TZID:Australia/Perth
BEGIN:STANDARD
TZOFFSETFROM:+0800
TZOFFSETTO:+0800
TZNAME:AWST
DTSTART:20250101T000000
END:STANDARD
END:VTIMEZONE
BEGIN:VEVENT
DTSTART;TZID=Australia/Perth:20260622T171500
DTEND;TZID=Australia/Perth:20260622T183000
DTSTAMP:20260420T044433
CREATED:20260402T070902Z
LAST-MODIFIED:20260402T070958Z
UID:10002526-1782148500-1782153000@tarameditationcentre.org.au
SUMMARY:Hatha Yoga with Gyani
DESCRIPTION:A complete practice incorporating yoga postures (asana)\, pranayama (breathing techniques)\, meditation and yoga nidra or relaxation. There will be a combination of dynamic and static yoga postures building both strength and flexibility. A strong focus is placed upon breath and mindfulness. This practice is suitable for all levels as poses can be modified with props. \n  \nPRICING \n\n75 min class per week in 5-week block: $90 / $80 concession\n\nYou will be signed up for the same class each week. If you book into a second class each week\, then you can pay the concession rate for that second class. \n\nCasuals are offered if there is space on first come first serve basis.\n75 min class $20 / $18 concession\n\nIf you have any queries please contact us.
URL:https://tarameditationcentre.org.au/program/hatha-yoga-with-gyani/2026-06-22/
LOCATION:Tara Meditation Centre\, 18 Clifton Street\, Bunbury\, WA\, 6230\, Australia
CATEGORIES:Yoga Classes
ATTACH;FMTTYPE=image/jpeg:https://tarameditationcentre.org.au/wp-content/uploads/2025/02/Events-15.jpg
END:VEVENT
END:VCALENDAR