BEGIN:VCALENDAR
VERSION:2.0
PRODID:-//Buddhist Teaching, Yoga &amp; Meditation Centre, Bunbury - ECPv6.15.17//NONSGML v1.0//EN
CALSCALE:GREGORIAN
METHOD:PUBLISH
X-WR-CALNAME:Buddhist Teaching, Yoga &amp; Meditation Centre, Bunbury
X-ORIGINAL-URL:https://tarameditationcentre.org.au
X-WR-CALDESC:Events for Buddhist Teaching, Yoga &amp; Meditation Centre, Bunbury
REFRESH-INTERVAL;VALUE=DURATION:PT1H
X-Robots-Tag:noindex
X-PUBLISHED-TTL:PT1H
BEGIN:VTIMEZONE
TZID:Australia/Perth
BEGIN:STANDARD
TZOFFSETFROM:+0800
TZOFFSETTO:+0800
TZNAME:AWST
DTSTART:20250101T000000
END:STANDARD
END:VTIMEZONE
BEGIN:VEVENT
DTSTART;TZID=Australia/Perth:20260401T080000
DTEND;TZID=Australia/Perth:20260401T090000
DTSTAMP:20260420T013254
CREATED:20260112T130634Z
LAST-MODIFIED:20260310T121228Z
UID:10002188-1775030400-1775034000@tarameditationcentre.org.au
SUMMARY:Men's Hatha Yoga with Rosemary
DESCRIPTION:Designed for male practitioners\, these classes offer a supportive space to explore yoga’s physical and mental benefits. Cultivate strength\, flexibility\, and mental clarity while fostering camaraderie among like-minded men. Suitable for all levels. \n  \nPRICING \n\n60 min class per week in 5-week block: $90/ $80 concession\n\nYou will be signed up for the same class each week. If you book into a second class each week\, then you can pay the concession rate for that second class. \n\nCasuals are offered if there is space on first come first serve basis.\n60 min class $20 / $18 concession\n\nIf you have any queries please contact us.
URL:https://tarameditationcentre.org.au/program/mens-hatha-yoga-9/2026-04-01/
LOCATION:Tara Meditation Centre\, 18 Clifton Street\, Bunbury\, WA\, 6230\, Australia
CATEGORIES:Yoga Classes
ATTACH;FMTTYPE=image/jpeg:https://tarameditationcentre.org.au/wp-content/uploads/2025/02/Events-12.jpg
END:VEVENT
BEGIN:VEVENT
DTSTART;TZID=Australia/Perth:20260401T100000
DTEND;TZID=Australia/Perth:20260401T110000
DTSTAMP:20260420T013254
CREATED:20260112T121726Z
LAST-MODIFIED:20260113T011027Z
UID:10001877-1775037600-1775041200@tarameditationcentre.org.au
SUMMARY:Wednesday Morning Guided Meditation
DESCRIPTION:Healthy Body Healthy Mind \n10 am Healthy Body Healthy Mind~ Sessions combine gentle stretching exercises with simple meditation techniques to calm the mind and help with stress…….. \nWednesday meditation sessions are not held during the school holidays.
URL:https://tarameditationcentre.org.au/program/wednesday-morning-guided-meditation-2/2026-04-01/
LOCATION:WA
CATEGORIES:Meditation
ATTACH;FMTTYPE=image/jpeg:https://tarameditationcentre.org.au/wp-content/uploads/2024/01/Slider-images-4.jpg
END:VEVENT
BEGIN:VEVENT
DTSTART;TZID=Australia/Perth:20260401T173000
DTEND;TZID=Australia/Perth:20260401T181500
DTSTAMP:20260420T013254
CREATED:20260112T121835Z
LAST-MODIFIED:20260113T011059Z
UID:10001942-1775064600-1775067300@tarameditationcentre.org.au
SUMMARY:Wednesday Afternoon Guided Meditation
DESCRIPTION:5:30 pm Afternoon Guided Meditation~ Wind down at the end of a busy day.
URL:https://tarameditationcentre.org.au/program/wednesday-afternoon-guided-meditation-4/2026-04-01/
LOCATION:WA
CATEGORIES:Meditation
ATTACH;FMTTYPE=image/png:https://tarameditationcentre.org.au/wp-content/uploads/2023/12/Event-Header.png
END:VEVENT
END:VCALENDAR