BEGIN:VCALENDAR
VERSION:2.0
PRODID:-//Buddhist Teaching, Yoga &amp; Meditation Centre, Bunbury - ECPv6.15.17//NONSGML v1.0//EN
CALSCALE:GREGORIAN
METHOD:PUBLISH
X-ORIGINAL-URL:https://tarameditationcentre.org.au
X-WR-CALDESC:Events for Buddhist Teaching, Yoga &amp; Meditation Centre, Bunbury
REFRESH-INTERVAL;VALUE=DURATION:PT1H
X-Robots-Tag:noindex
X-PUBLISHED-TTL:PT1H
BEGIN:VTIMEZONE
TZID:Australia/Perth
BEGIN:STANDARD
TZOFFSETFROM:+0800
TZOFFSETTO:+0800
TZNAME:AWST
DTSTART:20250101T000000
END:STANDARD
END:VTIMEZONE
BEGIN:VEVENT
DTSTART;TZID=Australia/Perth:20260213T080000
DTEND;TZID=Australia/Perth:20260213T090000
DTSTAMP:20260420T051122
CREATED:20260112T130911Z
LAST-MODIFIED:20260310T121827Z
UID:10002219-1770969600-1770973200@tarameditationcentre.org.au
SUMMARY:Men's Hatha Yoga with Kerry
DESCRIPTION:Designed for male practitioners\, these classes offer a supportive space to explore yoga’s physical and mental benefits. Cultivate strength\, flexibility\, and mental clarity while fostering camaraderie among like-minded men. Suitable for all levels. \n  \nPRICING \n\n60 min class per week in 5-week block: $90/ $80 concession\n\nYou will be signed up for the same class each week. If you book into a second class each week\, then you can pay the concession rate for that second class. \n\nCasuals are offered if there is space on first come first serve basis.\n60 min class $20 / $18 concession\n\nIf you have any queries please contact us.
URL:https://tarameditationcentre.org.au/program/mens-hatha-yoga-10/2026-02-13/
LOCATION:Tara Meditation Centre\, 18 Clifton Street\, Bunbury\, WA\, 6230\, Australia
CATEGORIES:Yoga Classes
ATTACH;FMTTYPE=image/jpeg:https://tarameditationcentre.org.au/wp-content/uploads/2025/02/Events-12.jpg
END:VEVENT
BEGIN:VEVENT
DTSTART;TZID=Australia/Perth:20260213T130000
DTEND;TZID=Australia/Perth:20260213T140000
DTSTAMP:20260420T051122
CREATED:20260112T120129Z
LAST-MODIFIED:20260113T011426Z
UID:10001796-1770987600-1770991200@tarameditationcentre.org.au
SUMMARY:Mantra Rolling & Dharma Cutting
DESCRIPTION:An ideal opportunity to bring your accumulated dharma images to the centre & learn how to process them correctly for their final destination – our stupa!
URL:https://tarameditationcentre.org.au/program/mantra-rolling-dharma-cutting-3/2026-02-13/
LOCATION:Tara Meditation Centre\, 18 Clifton Street\, Bunbury\, WA\, 6230\, Australia
CATEGORIES:Stupa Activities
ATTACH;FMTTYPE=image/jpeg:https://tarameditationcentre.org.au/wp-content/uploads/2025/03/K9A7930.jpg
END:VEVENT
BEGIN:VEVENT
DTSTART;TZID=Australia/Perth:20260213T173000
DTEND;TZID=Australia/Perth:20260213T193000
DTSTAMP:20260420T051122
CREATED:20260128T073900Z
LAST-MODIFIED:20260128T074622Z
UID:10002412-1771003800-1771011000@tarameditationcentre.org.au
SUMMARY:Rest & Rejuvenate
DESCRIPTION:  \n\n\n\n\n\n\n\n\n\n\n\n\n\n\n\n  \n\n\n\n\n\nJoin Gyani for an evening of yoga for relaxation to slow things down\, press pause on your life\, and embody deep rest and rejuvenation.\nExperience yoga and breathing practices to calm and balance your nervous system\, concluding with a Yoga Nidra for deep rest to heal and reset.\nLeaving you rested\, renewed and revitalised.\nThe session will include:~ Restorative Yin Yoga – for slowing down and opening the body through passive stretching.~ Guided Pranayama (breathwork) – for relaxing and calming the mind.~ Yoga Nidra – deep relaxation and meditation lying down with soothing sounds – a nurturing space to let go.\nDeep rest has profound benefits within the body – by resetting and restoring physically\, mentally and emotionally.\nSuitable for all levels\, including complete beginners.\nDATE: Friday 13th February 5.30–7.30pm. Please arrive at least 10mins early for a prompt start at 5.30pm.\nVENUE: Tara Yoga\, 18 Clifton Street\, Bunbury\nEXCHANGE: Earlybird $40 if booked before 30th January. Full price $45 or $43 concession.\nBOOKING: Registration essential as places are limited. Book online to secure your spot.\nREFUNDS: Please note there will be no refunds or exchanges but if you are unable to attend the workshop then you can arrange for someone to take your place and to let us know in advance.\n\nMORE INFO: Contact centre at yoga@hmt.org.au or message. \n\n\n\n\nTickets\n\n\n\n\n\nhttps://www.trybooking.com/events/1526418/sessions/6181221/sections/2939163/tickets\n\n\n\n  \n\n\n\n\n\n\n\n\n\n\n\n\n\n\n\n\n\n\n\n\n 
URL:https://tarameditationcentre.org.au/program/rest-rejuvenate/
LOCATION:Tara Meditation Centre\, 18 Clifton Street\, Bunbury\, WA\, 6230\, Australia
CATEGORIES:Yoga Workshops
ATTACH;FMTTYPE=image/jpeg:https://tarameditationcentre.org.au/wp-content/uploads/2026/01/Rest-Rejuvenate-March13.jpg
END:VEVENT
END:VCALENDAR